BEGIN:VCALENDAR
VERSION:2.0
PRODID:-//Kalender-Script//NONSGML Cal V.3//EN
CALSCALE:GREGORIAN
METHOD:PUBLISH
X-WR-CALNAME:Termin_105
X-WR-TIMEZONE:Europe/Berlin
BEGIN:VTIMEZONE
TZID:Europe/Berlin
X-LIC-LOCATION:Europe/Berlin
BEGIN:DAYLIGHT
TZOFFSETFROM:+0100
TZOFFSETTO:+0200
DTSTART:19700329T020000
RRULE:FREQ=YEARLY;INTERVAL=1;BYDAY=-1SU;BYMONTH=3
TZNAME:CEST
END:DAYLIGHT
BEGIN:STANDARD
TZOFFSETFROM:+0200
TZOFFSETTO:+0100
DTSTART:19701025T030000
RRULE:FREQ=YEARLY;INTERVAL=1;BYDAY=-1SU;BYMONTH=10
TZNAME:CET
END:STANDARD
END:VTIMEZONE
BEGIN:VEVENT
UID:termin_105@feg-bruechermuehle.de
CLASS:PUBLIC
DTSTART;TZID=Europe/Berlin:20250406T100000
DTEND;TZID=Europe/Berlin:20250406T100000
DTSTAMP:20260419T191300Z
SUMMARY:Sonntags-Gottesdienst
DESCRIPTION:Sonntagsgottesdienst - 6. April 2025, 10:00 Uhr\n\nHerzliche Einladung zu unserem Sonntagsgottesdienst \nin der Freien evangelischen Gemeinde Brüchermühle!\n\nAm Sonntag, den 6. April 2025, treffen wir uns um 10:00 Uhr, \num gemeinsam Gott zu begegnen und neue Impulse für unseren Glauben zu empfangen.\n\nDen musikalischen Auftakt gestaltet unser Jugendteam\nmit einer kraftvollen Anbetungszeit, die uns hilft, unsere Herzen auf Gott auszurichten.\n\nDie Predigt hält unser Pastor Anatoli Dratchow. \n\nEr spricht über das Thema: »Gottes Willen erkennen - mein Leben nach Gottes Willen ausrichten«. \nDabei nimmt er uns mit in die Tiefe des Wortes Gottes, unter anderem anhand von Kolosser 1,9.\n\nEin weiterer besonderer Moment dieses Gottesdienstes \nwird die Feier des Abendmahls sein - \neine Einladung an alle, sich bewusst an das Opfer Jesu zu erinnern und neue Kraft zu schöpfen.\n\nDurch die Moderation führen uns David und Savana.\n\nWir freuen uns auf dich - sei dabei und lass dich ermutigen!\n\nhttps://feg-bruechermuehle.de/kalender/kalender.php?kal_Aktion=detail&amp;kal_Intervall=%5B%5D&amp;kal_Nummer=105
LOCATION:51580 Reichshof-Brüchermühle , Olperstrasse 14 51580 Reichshof-Brüchermühle , Olperstrasse 14
GEO:50.929815008439355;7.647417783737183
ATTACH:http'.s.'://feg-bruechermuehle.de/Gottesdienst14.jpg|Gottesdienst14.jpg
URL;VALUE=URI:https://feg-bruechermuehle.de/kalender/kalender.php?kal_Aktion=detail&amp;kal_Intervall=%5B%5D&amp;kal_Nummer=105
END:VEVENT
END:VCALENDAR
