BEGIN:VCALENDAR
VERSION:2.0
PRODID:-//Kalender-Script//NONSGML Cal V.3//EN
CALSCALE:GREGORIAN
METHOD:PUBLISH
X-WR-CALNAME:Termin_106
X-WR-TIMEZONE:Europe/Berlin
BEGIN:VTIMEZONE
TZID:Europe/Berlin
X-LIC-LOCATION:Europe/Berlin
BEGIN:DAYLIGHT
TZOFFSETFROM:+0100
TZOFFSETTO:+0200
DTSTART:19700329T020000
RRULE:FREQ=YEARLY;INTERVAL=1;BYDAY=-1SU;BYMONTH=3
TZNAME:CEST
END:DAYLIGHT
BEGIN:STANDARD
TZOFFSETFROM:+0200
TZOFFSETTO:+0100
DTSTART:19701025T030000
RRULE:FREQ=YEARLY;INTERVAL=1;BYDAY=-1SU;BYMONTH=10
TZNAME:CET
END:STANDARD
END:VTIMEZONE
BEGIN:VEVENT
UID:termin_106@feg-bruechermuehle.de
CLASS:PUBLIC
DTSTART;TZID=Europe/Berlin:20250413T100000
DTEND;TZID=Europe/Berlin:20250413T100000
DTSTAMP:20260419T191300Z
SUMMARY:Sonntags-Gottesdienst
DESCRIPTION:Sonntagsgottesdienst - 13. April 2025, 10:00 Uhr\n\nHerzliche Einladung zu unserem Gottesdienst am Sonntag, den 13. April 2025!\n\nWir beginnen den Vormittag gemeinsam mit einer intensiven Anbetungszeit, \nmusikalisch gestaltet von unserem Anbetungsteam ( Team Lena ) . \n\nDiese Worship-Musik schafft Raum zur Begegnung mit Gott \nund öffnet unsere Herzen für das, was Er uns sagen möchte.\n\nDie Predigt hält an diesem Sonntag unser Gastprediger Andreas Leis.\n\nUnter dem Thema »Die Frucht eines transformierten Herzens« lädt er uns ein, \nüber die sichtbaren Auswirkungen einer inneren Herzensveränderung nachzudenken.\nDabei steht Galater 5, Verse 22-23 im Fokus - \ndie bekannten »Früchte des Geistes«, die zeigen, \nwie der Heilige Geist unser Leben formt.\n\nDurch den Gottesdienst führt uns unser Moderator Colin Ndibe.\n\nWir freuen uns auf dich - sei dabei, ob zum ersten Mal \noder schon vertraut mit unserer Gemeinde!\n\nhttps://feg-bruechermuehle.de/kalender/kalender.php?kal_Aktion=detail&amp;kal_Intervall=%5B%5D&amp;kal_Nummer=106
LOCATION:51580 Reichshof-Brüchermühle , Olperstrasse 14 51580 Reichshof-Brüchermühle , Olperstrasse 14
GEO:50.92984543780644;7.647415101528169
ATTACH:http'.s.'://feg-bruechermuehle.de/Gottesdienst15.jpg|Gottesdienst15.jpg
URL;VALUE=URI:https://feg-bruechermuehle.de/kalender/kalender.php?kal_Aktion=detail&amp;kal_Intervall=%5B%5D&amp;kal_Nummer=106
END:VEVENT
END:VCALENDAR
