BEGIN:VCALENDAR
VERSION:2.0
PRODID:-//Kalender-Script//NONSGML Cal V.3//EN
CALSCALE:GREGORIAN
METHOD:PUBLISH
X-WR-CALNAME:Termin_108
X-WR-TIMEZONE:Europe/Berlin
BEGIN:VTIMEZONE
TZID:Europe/Berlin
X-LIC-LOCATION:Europe/Berlin
BEGIN:DAYLIGHT
TZOFFSETFROM:+0100
TZOFFSETTO:+0200
DTSTART:19700329T020000
RRULE:FREQ=YEARLY;INTERVAL=1;BYDAY=-1SU;BYMONTH=3
TZNAME:CEST
END:DAYLIGHT
BEGIN:STANDARD
TZOFFSETFROM:+0200
TZOFFSETTO:+0100
DTSTART:19701025T030000
RRULE:FREQ=YEARLY;INTERVAL=1;BYDAY=-1SU;BYMONTH=10
TZNAME:CET
END:STANDARD
END:VTIMEZONE
BEGIN:VEVENT
UID:termin_108@feg-bruechermuehle.de
CLASS:PUBLIC
DTSTART;TZID=Europe/Berlin:20250427T100000
DTEND;TZID=Europe/Berlin:20250427T100000
DTSTAMP:20260419T191200Z
SUMMARY:Sonntags-Gottesdienst
DESCRIPTION:Sonntagsgottesdienst - 27. April 2025, 10:00 Uhr\n\nHerzliche Einladung zu unserem Gottesdienst am Sonntag, den 27. April 2025 um 10:00 Uhr!\n\nWie gewohnt beginnen wir den Morgen mit einer musikalischen Anbetungszeit,\ndiesmal gestaltet von einem gemischten Team\nunserer verschiedenen Anbetungsteams. \n\nFreuen Sie sich auf eine vielfältige und lebendige Lobpreiszeit, \ndie unser Herz für Gottes Reden öffnet.\n\nDie Predigt hält an diesem Sonntag unser Gastprediger Wladimir Angelo.\n\nEr nimmt uns mit in die berührende Geschichte der Emmausjünger - \nein Weg voller Zweifel, Erkenntnis und neuer Hoffnung.\nLassen Sie sich einladen, neu zu entdecken, \nwie Jesus mitten auf unserem Weg begegnet.\n\nDurch den Gottesdienst führen uns unsere jungen Moderatoren\nDerek und Cindy - mit frischer Energie und viel Herz.\n\nWir freuen uns, diesen Sonntag gemeinsam mit Ihnen zu feiern!\n\nhttps://feg-bruechermuehle.de/kalender/kalender.php?kal_Aktion=detail&amp;kal_Intervall=%5B%5D&amp;kal_Nummer=108
LOCATION:51580 Reichshof-Brüchermühle , Olperstrasse 14 51580 Reichshof-Brüchermühle , Olperstrasse 14
GEO:50.92984543780644;7.647421807050706
ATTACH:http'.s.'://feg-bruechermuehle.de/Gottesdienst17.jpg|Gottesdienst17.jpg
URL;VALUE=URI:https://feg-bruechermuehle.de/kalender/kalender.php?kal_Aktion=detail&amp;kal_Intervall=%5B%5D&amp;kal_Nummer=108
END:VEVENT
END:VCALENDAR
