BEGIN:VCALENDAR
VERSION:2.0
PRODID:-//Kalender-Script//NONSGML Cal V.3//EN
CALSCALE:GREGORIAN
METHOD:PUBLISH
X-WR-CALNAME:Termin_109
X-WR-TIMEZONE:Europe/Berlin
BEGIN:VTIMEZONE
TZID:Europe/Berlin
X-LIC-LOCATION:Europe/Berlin
BEGIN:DAYLIGHT
TZOFFSETFROM:+0100
TZOFFSETTO:+0200
DTSTART:19700329T020000
RRULE:FREQ=YEARLY;INTERVAL=1;BYDAY=-1SU;BYMONTH=3
TZNAME:CEST
END:DAYLIGHT
BEGIN:STANDARD
TZOFFSETFROM:+0200
TZOFFSETTO:+0100
DTSTART:19701025T030000
RRULE:FREQ=YEARLY;INTERVAL=1;BYDAY=-1SU;BYMONTH=10
TZNAME:CET
END:STANDARD
END:VTIMEZONE
BEGIN:VEVENT
UID:termin_109@feg-bruechermuehle.de
CLASS:PUBLIC
DTSTART;TZID=Europe/Berlin:20250504T100000
DTEND;TZID=Europe/Berlin:20250504T100000
DTSTAMP:20260419T191200Z
SUMMARY:Sonntags-Gottesdienst
DESCRIPTION:Sonntagsgottesdienst - 4. Mai 2025, 10:00 Uhr\n\nHerzliche Einladung zu unserem Gottesdienst\nam Sonntag, den 4. Mai 2025 um 10:00 Uhr\nin der Freien Evangelischen Gemeinde Brüchermühle!\n\nWie immer starten wir mit einer musikalischen Anbetungszeit, \ndie uns hilft, zur Ruhe zu kommen und unser Herz auf Gott auszurichten. \n\nAn diesem Sonntag wird das Anbetungsteam Emanuel diesen Teil gestalten - \nmit Liedern, die uns näher an Gottes Herz bringen.\n\nDie Predigt hält unser Pastor Andre Wernik zum Thema:\n»Transformation des Herzens - durch Gottes Wort und das Hören auf seine Stimme«.\nIm Zentrum steht dabei unter anderem Psalm 119, Vers 11, \nder uns daran erinnert, wie kraftvoll das Wort Gottes in unserem Leben wirkt. \nEs geht um innere Veränderung - \nund wie wir lernen können, Gottes Stimme im Alltag zu hören.\n\nDurch den Gottesdienst begleitet uns unsere erfahrene Moderatorin Ida Klaus, \ndie mit Ruhe und Klarheit durch den Vormittag führt.\n\nSei dabei - wir freuen uns auf dich!\n\nhttps://feg-bruechermuehle.de/kalender/kalender.php?kal_Aktion=detail&amp;kal_Intervall=%5B%5D&amp;kal_Nummer=109
LOCATION:51580 Reichshof-Brüchermühle , Olperstrasse 14 51580 Reichshof-Brüchermühle , Olperstrasse 14
GEO:50.9298352946863;7.647408396005631
ATTACH:http'.s.'://feg-bruechermuehle.de/Gottesdienst18.jpg|Gottesdienst18.jpg
URL;VALUE=URI:https://feg-bruechermuehle.de/kalender/kalender.php?kal_Aktion=detail&amp;kal_Intervall=%5B%5D&amp;kal_Nummer=109
END:VEVENT
END:VCALENDAR
