BEGIN:VCALENDAR
VERSION:2.0
PRODID:-//Kalender-Script//NONSGML Cal V.3//EN
CALSCALE:GREGORIAN
METHOD:PUBLISH
X-WR-CALNAME:Termin_110
X-WR-TIMEZONE:Europe/Berlin
BEGIN:VTIMEZONE
TZID:Europe/Berlin
X-LIC-LOCATION:Europe/Berlin
BEGIN:DAYLIGHT
TZOFFSETFROM:+0100
TZOFFSETTO:+0200
DTSTART:19700329T020000
RRULE:FREQ=YEARLY;INTERVAL=1;BYDAY=-1SU;BYMONTH=3
TZNAME:CEST
END:DAYLIGHT
BEGIN:STANDARD
TZOFFSETFROM:+0200
TZOFFSETTO:+0100
DTSTART:19701025T030000
RRULE:FREQ=YEARLY;INTERVAL=1;BYDAY=-1SU;BYMONTH=10
TZNAME:CET
END:STANDARD
END:VTIMEZONE
BEGIN:VEVENT
UID:termin_110@feg-bruechermuehle.de
CLASS:PUBLIC
DTSTART;TZID=Europe/Berlin:20250511T100000
DTEND;TZID=Europe/Berlin:20250511T100000
DTSTAMP:20260419T191000Z
SUMMARY:Muttertags-Gottesdienst
DESCRIPTION:Muttertags-Gottesdienst - 11. Mai 2025, 10:00 Uhr\n\nHerzliche Einladung zu unserem Gottesdienst \nam Sonntag, den 11. Mai 2025 um 10:00 Uhr!\n\nWie gewohnt starten wir mit einer musikalischen Anbetungszeit,\ndie uns auf die Begegnung mit Gott vorbereitet. \n\nAn diesem Sonntag wird die Anbetung von unserem Jugendteam gestaltet - \njung, leidenschaftlich und voller Hingabe!\n\nDie Predigt hält unsere Gastpredigerin Pastor Teresa zum Thema:\n»Transformation der Gesellschaft - Familie Gottes: eine geniale Idee«.\nIm Zentrum der Predigt stehen die bewegenden Verse\naus 1. Samuel 1,1 - 2,1, die uns zeigen, \nwie Gottes Wirken in einzelnen Familien beginnt - \nund große Auswirkungen auf die Gesellschaft haben kann.\n\nDurch den Gottesdienst begleitet uns mit Herzlichkeit und Klarheit\nunsere Moderatorin Lisa Salnikow.\n\nWir freuen uns auf einen inspirierenden Sonntag mit euch!\n\nhttps://feg-bruechermuehle.de/kalender/kalender.php?kal_Aktion=detail&amp;kal_Intervall=%5B%5D&amp;kal_Nummer=110
LOCATION:51580 Reichshof-Brüchermühle , Olperstrasse 14 51580 Reichshof-Brüchermühle , Olperstrasse 14
GEO:50.92985727144384;7.647425830364228
ATTACH:http'.s.'://feg-bruechermuehle.de/Gottesdienst19.jpg|Gottesdienst19.jpg
URL;VALUE=URI:https://feg-bruechermuehle.de/kalender/kalender.php?kal_Aktion=detail&amp;kal_Intervall=%5B%5D&amp;kal_Nummer=110
END:VEVENT
END:VCALENDAR
