BEGIN:VCALENDAR
VERSION:2.0
PRODID:-//Kalender-Script//NONSGML Cal V.3//EN
CALSCALE:GREGORIAN
METHOD:PUBLISH
X-WR-CALNAME:Termin_111
X-WR-TIMEZONE:Europe/Berlin
BEGIN:VTIMEZONE
TZID:Europe/Berlin
X-LIC-LOCATION:Europe/Berlin
BEGIN:DAYLIGHT
TZOFFSETFROM:+0100
TZOFFSETTO:+0200
DTSTART:19700329T020000
RRULE:FREQ=YEARLY;INTERVAL=1;BYDAY=-1SU;BYMONTH=3
TZNAME:CEST
END:DAYLIGHT
BEGIN:STANDARD
TZOFFSETFROM:+0200
TZOFFSETTO:+0100
DTSTART:19701025T030000
RRULE:FREQ=YEARLY;INTERVAL=1;BYDAY=-1SU;BYMONTH=10
TZNAME:CET
END:STANDARD
END:VTIMEZONE
BEGIN:VEVENT
UID:termin_111@feg-bruechermuehle.de
CLASS:PUBLIC
DTSTART;TZID=Europe/Berlin:20250518T100000
DTEND;TZID=Europe/Berlin:20250518T100000
DTSTAMP:20260419T191200Z
SUMMARY:Sonntags-Gottesdienst
DESCRIPTION:Sonntagsgottesdienst - 18. Mai 2025, 10:00 Uhr\n\nHerzliche Einladung zu unserem Gottesdienst am Sonntag,\nden 18. Mai 2025 um 10:00 Uhr in der FeG Brüchermühle!\n\nGanz in unserer Tradition starten wir den Gottesdienst mit einer musikalischen Anbetungszeit. \nDieses Mal wird sie gestaltet vom Anbetungsteam Lena, \ndas uns mit ihren Liedern in die Gegenwart Gottes führen möchte - \nein kraftvoller Auftakt zum gemeinsamen Gottesdienst.\n\nDie Predigt hält unser Pastor Anatoli Dratchow zum Thema:\n\n»Transformation der Gesellschaft - 180 Grad Wendung«\n\nIm Fokus stehen die Verse aus Hesekiel 18, 21-32, \ndie eindrucksvoll zeigen, wie radikal Gottes Gnade das Leben eines Menschen verändern kann -\nund wie daraus ein neuer Weg für ganze Gesellschaften entsteht.\n\nDurch die Moderation dieses Gottesdienstes führt uns \nunser bewährter Moderator Thomas Müller, \nder mit Klarheit und Vertrautheit durch das Programm leitet.\n\nWir freuen uns auf einen tiefgehenden und ermutigenden Gottesdienst mit dir!\n\nhttps://feg-bruechermuehle.de/kalender/kalender.php?kal_Aktion=detail&amp;kal_Intervall=%5B%5D&amp;kal_Nummer=111
LOCATION:51580 Reichshof-Brüchermühle , Olperstrasse 14 51580 Reichshof-Brüchermühle , Olperstrasse 14
GEO:50.92984881884601;7.647420465946198
ATTACH:http'.s.'://feg-bruechermuehle.de/Gottesdienst20.jpg|Gottesdienst20.jpg
URL;VALUE=URI:https://feg-bruechermuehle.de/kalender/kalender.php?kal_Aktion=detail&amp;kal_Intervall=%5B%5D&amp;kal_Nummer=111
END:VEVENT
END:VCALENDAR
