BEGIN:VCALENDAR
VERSION:2.0
PRODID:-//Kalender-Script//NONSGML Cal V.3//EN
CALSCALE:GREGORIAN
METHOD:PUBLISH
X-WR-CALNAME:Termin_112
X-WR-TIMEZONE:Europe/Berlin
BEGIN:VTIMEZONE
TZID:Europe/Berlin
X-LIC-LOCATION:Europe/Berlin
BEGIN:DAYLIGHT
TZOFFSETFROM:+0100
TZOFFSETTO:+0200
DTSTART:19700329T020000
RRULE:FREQ=YEARLY;INTERVAL=1;BYDAY=-1SU;BYMONTH=3
TZNAME:CEST
END:DAYLIGHT
BEGIN:STANDARD
TZOFFSETFROM:+0200
TZOFFSETTO:+0100
DTSTART:19701025T030000
RRULE:FREQ=YEARLY;INTERVAL=1;BYDAY=-1SU;BYMONTH=10
TZNAME:CET
END:STANDARD
END:VTIMEZONE
BEGIN:VEVENT
UID:termin_112@feg-bruechermuehle.de
CLASS:PUBLIC
DTSTART;TZID=Europe/Berlin:20250525T100000
DTEND;TZID=Europe/Berlin:20250525T100000
DTSTAMP:20260419T191100Z
SUMMARY:Sonntags-Gottesdienst
DESCRIPTION:Sonntagsgottesdienst - 25. Mai 2025, 10:00 Uhr\n\nHerzliche Einladung zu unserem Gottesdienst am Sonntag,\nden 25. Mai 2025 um 10:00 Uhr in der Freien Evangelischen Gemeinde Brüchermühle!\n\nZum Auftakt erwartet dich eine wunderbare Zeit der Anbetung,\ndie uns in die Gegenwart Gottes führt und unsere Herzen öffnet. \nGestaltet wird diese besondere musikalische Anbetungszeit vom Anbetungsteam Gaibel - \nmit Liedern, die berühren und bewegen.\n\nDie Predigt hält an diesem Sonntag unser Gastprediger Wladimir Angelo.\n\nUnter dem Thema »Transformation der Gesellschaft - Durch das Wirken Gottes« \nentdecken wir anhand von Hesekiel 36, Verse 24-32, \nwelche tiefgreifenden Veränderungen Gottes Geist in Menschen und Gesellschaften bewirken kann.\n\nDurch den Gottesdienst begleitet uns unsere charmante Moderatorin Marianne, \ndie mit Freude und Feingefühl durch das Programm führt.\n\nSei dabei - wir freuen uns, diesen Sonntag mit dir zu feiern!\n\n\n\nhttps://feg-bruechermuehle.de/kalender/kalender.php?kal_Aktion=detail&amp;kal_Intervall=%5B%5D&amp;kal_Nummer=112
LOCATION:51580 Reichshof-Brüchermühle , Olperstrasse 14 51580 Reichshof-Brüchermühle , Olperstrasse 14
GEO:50.92984881884601;7.647425830364228
ATTACH:http'.s.'://feg-bruechermuehle.de/Gottesdienst21.jpg|Gottesdienst21.jpg
URL;VALUE=URI:https://feg-bruechermuehle.de/kalender/kalender.php?kal_Aktion=detail&amp;kal_Intervall=%5B%5D&amp;kal_Nummer=112
END:VEVENT
END:VCALENDAR
