BEGIN:VCALENDAR
VERSION:2.0
PRODID:-//Kalender-Script//NONSGML Cal V.3//EN
CALSCALE:GREGORIAN
METHOD:PUBLISH
X-WR-CALNAME:Termin_113
X-WR-TIMEZONE:Europe/Berlin
BEGIN:VTIMEZONE
TZID:Europe/Berlin
X-LIC-LOCATION:Europe/Berlin
BEGIN:DAYLIGHT
TZOFFSETFROM:+0100
TZOFFSETTO:+0200
DTSTART:19700329T020000
RRULE:FREQ=YEARLY;INTERVAL=1;BYDAY=-1SU;BYMONTH=3
TZNAME:CEST
END:DAYLIGHT
BEGIN:STANDARD
TZOFFSETFROM:+0200
TZOFFSETTO:+0100
DTSTART:19701025T030000
RRULE:FREQ=YEARLY;INTERVAL=1;BYDAY=-1SU;BYMONTH=10
TZNAME:CET
END:STANDARD
END:VTIMEZONE
BEGIN:VEVENT
UID:termin_113@feg-bruechermuehle.de
CLASS:PUBLIC
DTSTART;TZID=Europe/Berlin:20250601T100000
DTEND;TZID=Europe/Berlin:20250601T100000
DTSTAMP:20260419T191200Z
SUMMARY:Sonntags-Gottesdienst
DESCRIPTION:Sonntagsgottesdienst - 1. Juni 2025, 10:00 Uhr\n\nHerzliche Einladung zu unserem Gottesdienst am Sonntag, \nden 1. Juni 2025 um 10:00 Uhr in der FeG Brüchermühle!\n\nWir beginnen unseren Gottesdienst mit einer musikalischen Anbetungszeit,\ngestaltet von einem gemischten Team aus unseren verschiedenen Anbetungsteams.\n\nFreue dich auf eine vielfältige und tiefgehende Lobpreiszeit, \ndie unsere Herzen auf das Wirken Gottes vorbereitet.\n\nDie Predigt hält an diesem Sonntag unser Gastprediger Tete Amavi zum Thema:\n\n»Transformation der Gesellschaft - Göttlicher Segen für die Nation«\n\nAnhand der Verse aus Hesekiel 36, 33-38 wird er aufzeigen, \nwie Gottes Segen ganze Nationen verwandeln kann - \nwenn wir uns auf Sein Reden einlassen und in Seine Wege gehen.\n\nDurch den Gottesdienst führt uns mit Klarheit und Herzlichkeit\nunser Moderator Anatoli Suckau.\n\nDu bist herzlich willkommen - wir freuen uns auf dich!\n\nhttps://feg-bruechermuehle.de/kalender/kalender.php?kal_Aktion=detail&amp;kal_Intervall=%5B%5D&amp;kal_Nummer=113
LOCATION:51580 Reichshof-Brüchermühle , Olperstrasse 14 51580 Reichshof-Brüchermühle , Olperstrasse 14
GEO:50.92984881884601;7.647419124841691
ATTACH:http'.s.'://feg-bruechermuehle.de/Gottesdienst22.jpg|Gottesdienst22.jpg
URL;VALUE=URI:https://feg-bruechermuehle.de/kalender/kalender.php?kal_Aktion=detail&amp;kal_Intervall=%5B%5D&amp;kal_Nummer=113
END:VEVENT
END:VCALENDAR
