BEGIN:VCALENDAR
VERSION:2.0
PRODID:-//Kalender-Script//NONSGML Cal V.3//EN
CALSCALE:GREGORIAN
METHOD:PUBLISH
X-WR-CALNAME:Termin_125
X-WR-TIMEZONE:Europe/Berlin
BEGIN:VTIMEZONE
TZID:Europe/Berlin
X-LIC-LOCATION:Europe/Berlin
BEGIN:DAYLIGHT
TZOFFSETFROM:+0100
TZOFFSETTO:+0200
DTSTART:19700329T020000
RRULE:FREQ=YEARLY;INTERVAL=1;BYDAY=-1SU;BYMONTH=3
TZNAME:CEST
END:DAYLIGHT
BEGIN:STANDARD
TZOFFSETFROM:+0200
TZOFFSETTO:+0100
DTSTART:19701025T030000
RRULE:FREQ=YEARLY;INTERVAL=1;BYDAY=-1SU;BYMONTH=10
TZNAME:CET
END:STANDARD
END:VTIMEZONE
BEGIN:VEVENT
UID:termin_125@feg-bruechermuehle.de
CLASS:PUBLIC
DTSTART;TZID=Europe/Berlin:20250516T190000
DTEND;TZID=Europe/Berlin:20250516T190000
DTSTAMP:20260419T190600Z
SUMMARY:Jugendtreff
DESCRIPTION:Jugendtreff in der FEG Brüchermühle\n\nWann? Jeden Freitag um 19:00 Uhr\nWo? In der FEG Brüchermühle\n\nGemeinschaft, Spaß und Inspiration - \nall das erwartet dich jeden Freitagabend im Jugendtreff der FEG Brüchermühle! \nHier kommen Jugendliche zusammen, um gemeinsam etwas zu erleben,\nNeues auszuprobieren und einfach eine gute Zeit miteinander zu verbringen.\n\nOb Lobpreis, Spieleabende, spannende Themen oder Filme schauen - \ndas Programm ist bunt und wird von den Jugendlichen selbst mitgestaltet. \nSo ist garantiert für jeden etwas dabei!\n\nUnter der Leitung von Derick Kariuki und einem engagierten Jugendteam\nwird der Jugendtreff zu einem Ort, an dem du willkommen bist, \nFreunde findest und Gott erleben kannst.\n\nSchau vorbei - wir freuen uns auf dich!\n\nhttps://feg-bruechermuehle.de/kalender/kalender.php?kal_Aktion=detail&amp;kal_Intervall=%5B%5D&amp;kal_Nummer=125
LOCATION:51580 Reichshof-Brüchermühle , Olperstrasse 14 51580 Reichshof-Brüchermühle , Olperstrasse 14
GEO:50.929950518847;7.6475631259382
ATTACH:http'.s.'://feg-bruechermuehle.de/Jugentreff_9.jpg|Jugentreff_9.jpg
URL;VALUE=URI:https://feg-bruechermuehle.de/kalender/kalender.php?kal_Aktion=detail&amp;kal_Intervall=%5B%5D&amp;kal_Nummer=125
END:VEVENT
END:VCALENDAR
