BEGIN:VCALENDAR
VERSION:2.0
PRODID:-//Kalender-Script//NONSGML Cal V.3//EN
CALSCALE:GREGORIAN
METHOD:PUBLISH
X-WR-CALNAME:Termin_136
X-WR-TIMEZONE:Europe/Berlin
BEGIN:VTIMEZONE
TZID:Europe/Berlin
X-LIC-LOCATION:Europe/Berlin
BEGIN:DAYLIGHT
TZOFFSETFROM:+0100
TZOFFSETTO:+0200
DTSTART:19700329T020000
RRULE:FREQ=YEARLY;INTERVAL=1;BYDAY=-1SU;BYMONTH=3
TZNAME:CEST
END:DAYLIGHT
BEGIN:STANDARD
TZOFFSETFROM:+0200
TZOFFSETTO:+0100
DTSTART:19701025T030000
RRULE:FREQ=YEARLY;INTERVAL=1;BYDAY=-1SU;BYMONTH=10
TZNAME:CET
END:STANDARD
END:VTIMEZONE
BEGIN:VEVENT
UID:termin_136@feg-bruechermuehle.de
CLASS:PUBLIC
DTSTART;TZID=Europe/Berlin:20250608T100000
DTEND;TZID=Europe/Berlin:20250608T100000
DTSTAMP:20260419T190600Z
SUMMARY:Sonntags-Gottesdienst
DESCRIPTION:Herzliche Einladung zum Gottesdienst der Freien evangelischen Gemeinde Brüchermühle!\n\nAm Sonntag, den 8. Juni 2025, starten wir wie gewohnt um 10:00 Uhr \nmit einer gemeinsamen Anbetungszeit. \nDas Team Emmanuel leitet uns musikalisch in die Gegenwart Gottes - \nmit Liedern, die Herz und Geist berühren.\n\nDie Predigt hält an diesem Sonntag Andre Wernik. \n\nEr spricht zum Thema:\n\n,,Transformation der Gesellschaft - Mit Gerechtigkeit regiert".\n\nEine herausfordernde und zugleich hoffnungsvolle Botschaft \nüber den Einfluss göttlicher Prinzipien in unserer Welt.\n\nDurch den Gottesdienst begleiten uns als Moderatoren Anatoli Dratchow und David Kariuki.\n\nDu bist herzlich eingeladen - komm vorbei, \nfeiere mit uns Gottesdienst und lass dich inspirieren!\n\n\n\nhttps://feg-bruechermuehle.de/kalender/kalender.php?kal_Aktion=detail&amp;kal_Intervall=%5B%5D&amp;kal_Nummer=136
LOCATION:51580 Reichshof-Brüchermühle , Olperstrasse 14 51580 Reichshof-Brüchermühle , Olperstrasse 14
GEO:50.929831913645764;7.647404372692109
ATTACH:http'.s.'://feg-bruechermuehle.de/Gottesdienst23.jpg|Gottesdienst23.jpg
URL;VALUE=URI:https://feg-bruechermuehle.de/kalender/kalender.php?kal_Aktion=detail&amp;kal_Intervall=%5B%5D&amp;kal_Nummer=136
END:VEVENT
END:VCALENDAR
