BEGIN:VCALENDAR
VERSION:2.0
PRODID:-//Kalender-Script//NONSGML Cal V.3//EN
CALSCALE:GREGORIAN
METHOD:PUBLISH
X-WR-CALNAME:Termin_137
X-WR-TIMEZONE:Europe/Berlin
BEGIN:VTIMEZONE
TZID:Europe/Berlin
X-LIC-LOCATION:Europe/Berlin
BEGIN:DAYLIGHT
TZOFFSETFROM:+0100
TZOFFSETTO:+0200
DTSTART:19700329T020000
RRULE:FREQ=YEARLY;INTERVAL=1;BYDAY=-1SU;BYMONTH=3
TZNAME:CEST
END:DAYLIGHT
BEGIN:STANDARD
TZOFFSETFROM:+0200
TZOFFSETTO:+0100
DTSTART:19701025T030000
RRULE:FREQ=YEARLY;INTERVAL=1;BYDAY=-1SU;BYMONTH=10
TZNAME:CET
END:STANDARD
END:VTIMEZONE
BEGIN:VEVENT
UID:termin_137@feg-bruechermuehle.de
CLASS:PUBLIC
DTSTART;TZID=Europe/Berlin:20250615T100000
DTEND;TZID=Europe/Berlin:20250615T100000
DTSTAMP:20260419T190600Z
SUMMARY:Sonntags-Gottesdienst
DESCRIPTION:Sonntagsgottesdienst - 15. Juni 2025, 10:00 Uhr\n\nHerzliche Einladung zu unserem Gottesdienst in der Freien evangelischen Gemeinde Brüchermühle \nam Sonntag, den 15. Juni 2025, um 10:00 Uhr.\n\nWir beginnen den Gottesdienst mit einer inspirierenden Anbetungszeit, \ngestaltet vom Team Jana, das uns mit Musik und Liedern in die Gegenwart Gottes führt.\n\nDie Predigt hält an diesem Sonntag David Juma.\n\nSein Thema: ,,Transformation der Gesellschaft - mit Gerechtigkeit regiert".\n\nEr nimmt uns mit in biblische Perspektiven gesellschaftlicher Veränderung \nund spricht dabei unter anderem über die Texte aus Jesaja 25,1-5 und Kapitel 32.\n\nDurch den Gottesdienst führt uns Thomas Müller in der Moderation.\n\nDu bist herzlich eingeladen - sei dabei und erlebe Gemeinschaft, Anbetung und Gottes Wort in lebendiger Form!\n\nhttps://feg-bruechermuehle.de/kalender/kalender.php?kal_Aktion=detail&amp;kal_Intervall=%5B%5D&amp;kal_Nummer=137
LOCATION:51580 Reichshof-Brüchermühle , Olperstrasse 14 51580 Reichshof-Brüchermühle , Olperstrasse 14
GEO:50.929831913645764;7.647404372692109
ATTACH:http'.s.'://feg-bruechermuehle.de/Gottesdienst24.jpg|Gottesdienst24.jpg
URL;VALUE=URI:https://feg-bruechermuehle.de/kalender/kalender.php?kal_Aktion=detail&amp;kal_Intervall=%5B%5D&amp;kal_Nummer=137
END:VEVENT
END:VCALENDAR
