BEGIN:VCALENDAR
VERSION:2.0
PRODID:-//Kalender-Script//NONSGML Cal V.3//EN
CALSCALE:GREGORIAN
METHOD:PUBLISH
X-WR-CALNAME:Termin_138
X-WR-TIMEZONE:Europe/Berlin
BEGIN:VTIMEZONE
TZID:Europe/Berlin
X-LIC-LOCATION:Europe/Berlin
BEGIN:DAYLIGHT
TZOFFSETFROM:+0100
TZOFFSETTO:+0200
DTSTART:19700329T020000
RRULE:FREQ=YEARLY;INTERVAL=1;BYDAY=-1SU;BYMONTH=3
TZNAME:CEST
END:DAYLIGHT
BEGIN:STANDARD
TZOFFSETFROM:+0200
TZOFFSETTO:+0100
DTSTART:19701025T030000
RRULE:FREQ=YEARLY;INTERVAL=1;BYDAY=-1SU;BYMONTH=10
TZNAME:CET
END:STANDARD
END:VTIMEZONE
BEGIN:VEVENT
UID:termin_138@feg-bruechermuehle.de
CLASS:PUBLIC
DTSTART;TZID=Europe/Berlin:20250622T100000
DTEND;TZID=Europe/Berlin:20250622T100000
DTSTAMP:20260420T054300Z
SUMMARY:Sonntags-Gottesdienst
DESCRIPTION:Sonntagsgottesdienst - 22. Juni 2025, 10:00 Uhr\n\nHerzliche Einladung zum Gottesdienst der Freien evangelischen Gemeinde Brüchermühle \nam Sonntag, den 22. Juni 2025, um 10:00 Uhr!\n\nWir starten den Gottesdienst mit einer Anbetungszeit, \ndie an diesem Sonntag vom Team Lena gestaltet wird.\nMit Liedern und Musik schaffen sie eine Atmosphäre der Begegnung mit Gott.\n\nDie Predigt hält Anatoli Dratchow.\n\nDas Thema lautet: ,,Transformation der Gesellschaft - Frieden im Land".\n\nEr beleuchtet, wie echter Frieden nach Gottes Vorstellung unsere Gesellschaft verändern kann, \nund nimmt dabei Bezug auf die Bibelstellen Jesaja 2,1-5, Jesaja 26,12-13 und Micha 4,1-5.\n\nDurch die Moderation führt uns unsere erfahrene Moderatorin Ida Klaus.\n\nKomm vorbei, lass dich ermutigen und erlebe Gemeinschaft, Anbetung und das lebendige Wort Gottes!\n\nhttps://feg-bruechermuehle.de/kalender/kalender.php?kal_Aktion=detail&amp;kal_Intervall=%5B%5D&amp;kal_Nummer=138
LOCATION:51580 Reichshof-Brüchermühle , Olperstrasse 14 51580 Reichshof-Brüchermühle , Olperstrasse 14
GEO:50.92987248611605;7.647439241409302
ATTACH:http'.s.'://feg-bruechermuehle.de/Gottesdienst25.jpg|Gottesdienst25.jpg
URL;VALUE=URI:https://feg-bruechermuehle.de/kalender/kalender.php?kal_Aktion=detail&amp;kal_Intervall=%5B%5D&amp;kal_Nummer=138
END:VEVENT
END:VCALENDAR
