BEGIN:VCALENDAR
VERSION:2.0
PRODID:-//Kalender-Script//NONSGML Cal V.3//EN
CALSCALE:GREGORIAN
METHOD:PUBLISH
X-WR-CALNAME:Termin_144
X-WR-TIMEZONE:Europe/Berlin
BEGIN:VTIMEZONE
TZID:Europe/Berlin
X-LIC-LOCATION:Europe/Berlin
BEGIN:DAYLIGHT
TZOFFSETFROM:+0100
TZOFFSETTO:+0200
DTSTART:19700329T020000
RRULE:FREQ=YEARLY;INTERVAL=1;BYDAY=-1SU;BYMONTH=3
TZNAME:CEST
END:DAYLIGHT
BEGIN:STANDARD
TZOFFSETFROM:+0200
TZOFFSETTO:+0100
DTSTART:19701025T030000
RRULE:FREQ=YEARLY;INTERVAL=1;BYDAY=-1SU;BYMONTH=10
TZNAME:CET
END:STANDARD
END:VTIMEZONE
BEGIN:VEVENT
UID:termin_144@feg-bruechermuehle.de
CLASS:PUBLIC
DTSTART;TZID=Europe/Berlin:20250629T100000
DTEND;TZID=Europe/Berlin:20250629T100000
DTSTAMP:20260422T125300Z
SUMMARY:Sonntags-Gottesdienst
DESCRIPTION:Sonntagsgottesdienst - 29. Juni 2025, 10:00 Uhr\n\nHerzliche Einladung zum Gottesdienst der Freien evangelischen Gemeinde Brüchermühle\nam Sonntag, den 29. Juni 2025, um 10:00 Uhr!\n\nWie gewohnt starten wir mit einer Zeit der Anbetung, \ndie an diesem Sonntag vom Team Geibel musikalisch gestaltet wird -\neine Gelegenheit, Gott im Lobpreis zu begegnen und die Herzen auf Ihn auszurichten.\n\n\nDie Predigt hält Wladimir Angelo zum Thema:\n\n,,Gesellschaftstransformation durch den göttlichen Segen".\n\nEr nimmt uns mit in die Vision einer veränderten Welt durch Gottes Wirken \nund bezieht sich dabei auch auf die Worte aus Hesekiel 36,33-38.\n\nDurch den Gottesdienst führt uns unsere Schwester Marianne -\nin ihrer liebevollen und herzlichen Art sorgt sie\nfür einen warmen Rahmen und einen klaren roten Faden durch den Vormittag.\n\nSei dabei - wir freuen uns auf dich und auf die gemeinsame Begegnung mit Gott!\n\nhttps://feg-bruechermuehle.de/kalender/kalender.php?kal_Aktion=detail&amp;kal_Intervall=%5B%5D&amp;kal_Nummer=144
LOCATION:51580 Reichshof-Brüchermühle , Olperstrasse 14 51580 Reichshof-Brüchermühle , Olperstrasse 14
GEO:50.929838675726586;7.647417783737183
ATTACH:http'.s.'://feg-bruechermuehle.de/Gottesdienst27.jpg|Gottesdienst27.jpg
URL;VALUE=URI:https://feg-bruechermuehle.de/kalender/kalender.php?kal_Aktion=detail&amp;kal_Intervall=%5B%5D&amp;kal_Nummer=144
END:VEVENT
END:VCALENDAR
