BEGIN:VCALENDAR
VERSION:2.0
PRODID:-//Kalender-Script//NONSGML Cal V.3//EN
CALSCALE:GREGORIAN
METHOD:PUBLISH
X-WR-CALNAME:Termin_154
X-WR-TIMEZONE:Europe/Berlin
BEGIN:VTIMEZONE
TZID:Europe/Berlin
X-LIC-LOCATION:Europe/Berlin
BEGIN:DAYLIGHT
TZOFFSETFROM:+0100
TZOFFSETTO:+0200
DTSTART:19700329T020000
RRULE:FREQ=YEARLY;INTERVAL=1;BYDAY=-1SU;BYMONTH=3
TZNAME:CEST
END:DAYLIGHT
BEGIN:STANDARD
TZOFFSETFROM:+0200
TZOFFSETTO:+0100
DTSTART:19701025T030000
RRULE:FREQ=YEARLY;INTERVAL=1;BYDAY=-1SU;BYMONTH=10
TZNAME:CET
END:STANDARD
END:VTIMEZONE
BEGIN:VEVENT
UID:termin_154@feg-bruechermuehle.de
CLASS:PUBLIC
DTSTART;TZID=Europe/Berlin:20250706T100000
DTEND;TZID=Europe/Berlin:20250706T100000
DTSTAMP:20260420T193500Z
SUMMARY:Familien-Gottesdienst
DESCRIPTION:Familiengottesdienst mit Abendmahl - 6. Juli 2025, 10:00 Uhr\n\nHerzliche Einladung zum Familiengottesdienst der Freien evangelischen Gemeinde Brüchermühle\nam Sonntag, den 6. Juli 2025, um 10:00 Uhr!\n\nWir beginnen den Gottesdienst mit einer Zeit der Anbetung,\ngestaltet vom Team Joy, \ndas uns mit musikalischer Freude und Hingabe in die Gegenwart Gottes führt.\n\nDieser Gottesdienst ist ein Familiengottesdienst - \neine besondere Gelegenheit, gemeinsam mit Kindern, \nEltern und Großeltern Gott zu begegnen. \nAlle Generationen sind herzlich willkommen!\n\nDie Predigt hält Andre Wernik zum Thema:\n\n,,Nikodemus - der Heilige Geist schenkt neues Leben!"\n\nEr nimmt uns mit in das Gespräch zwischen Jesus und Nikodemus \nund legt dabei Johannes 3,1-21 aus - \nein eindrucksvoller Text über geistliche Neugeburt durch den Heiligen Geist.\n\nEin weiterer Höhepunkt des Gottesdienstes ist die Feier des Abendmahls. \nGemeinsam wollen wir uns an das Opfer Jesu erinnern und neue Kraft im Glauben empfangen.\n\nDurch den Gottesdienst begleitet uns unsere talentierte Moderatorin Ida Klaus,\ndie mit Herz und Klarheit durch das Programm führt.\n\nKommt gerne als ganze Familie - \nwir freuen uns auf euch und auf einen festlichen Gottesdienst in Gemeinschaft!\n\n\n\nhttps://feg-bruechermuehle.de/kalender/kalender.php?kal_Aktion=detail&amp;kal_Intervall=%5B%5D&amp;kal_Nummer=154
LOCATION:51580 Reichshof-Brüchermühle , Olperstrasse 14 51580 Reichshof-Brüchermühle , Olperstrasse 14
GEO:50.92984205676664;7.647407054901124
ATTACH:http'.s.'://feg-bruechermuehle.de/Gottesdienst28.jpg|Gottesdienst28.jpg
URL;VALUE=URI:https://feg-bruechermuehle.de/kalender/kalender.php?kal_Aktion=detail&amp;kal_Intervall=%5B%5D&amp;kal_Nummer=154
END:VEVENT
END:VCALENDAR
