BEGIN:VCALENDAR
VERSION:2.0
PRODID:-//Kalender-Script//NONSGML Cal V.3//EN
CALSCALE:GREGORIAN
METHOD:PUBLISH
X-WR-CALNAME:Termin_158
X-WR-TIMEZONE:Europe/Berlin
BEGIN:VTIMEZONE
TZID:Europe/Berlin
X-LIC-LOCATION:Europe/Berlin
BEGIN:DAYLIGHT
TZOFFSETFROM:+0100
TZOFFSETTO:+0200
DTSTART:19700329T020000
RRULE:FREQ=YEARLY;INTERVAL=1;BYDAY=-1SU;BYMONTH=3
TZNAME:CEST
END:DAYLIGHT
BEGIN:STANDARD
TZOFFSETFROM:+0200
TZOFFSETTO:+0100
DTSTART:19701025T030000
RRULE:FREQ=YEARLY;INTERVAL=1;BYDAY=-1SU;BYMONTH=10
TZNAME:CET
END:STANDARD
END:VTIMEZONE
BEGIN:VEVENT
UID:termin_158@feg-bruechermuehle.de
CLASS:PUBLIC
DTSTART;TZID=Europe/Berlin:20250713T100000
DTEND;TZID=Europe/Berlin:20250713T100000
DTSTAMP:20260421T013400Z
SUMMARY:Sonntags-Gottesdienst
DESCRIPTION:Sonntagsgottesdienst - 13. Juli 2025, 10:00 Uhr\n\nHerzliche Einladung zum Gottesdienst der Freien evangelischen Gemeinde Brüchermühle \nam Sonntag, den 13. Juli 2025, um 10:00 Uhr!\n\nDer Gottesdienst beginnt mit einer kraftvollen Zeit der Anbetung, \nmusikalisch gestaltet vom Team Emanuel.\nMit Lobpreis und Musik wollen wir unsere Herzen für Gottes Reden öffnen\nund Ihm die Ehre geben.\n\nDie Predigt hält an diesem Sonntag David Juma zum Thema:\n\n,,Ich war blind - und jetzt kann ich sehen"\n\nAnhand des bewegenden Berichts aus Johannes 9,1-34 \nspricht er über geistliches Erwachen, \npersönliche Begegnung mit Jesus und die heilende Kraft des Glaubens.\n\nDurch die Moderation führt uns unser charmanter Moderator Colin Ndibe, \nder mit seiner herzlichen Art durch den Gottesdienst begleitet.\n\nSei herzlich eingeladen - wir freuen uns auf dich, \nauf Gemeinschaft, Anbetung und inspirierende Impulse aus Gottes Wort!\n\nhttps://feg-bruechermuehle.de/kalender/kalender.php?kal_Aktion=detail&amp;kal_Intervall=%5B%5D&amp;kal_Nummer=158
LOCATION:51580 Reichshof-Brüchermühle , Olperstrasse 14 51580 Reichshof-Brüchermühle , Olperstrasse 14
GEO:50.92981838948114;7.647412419319154
ATTACH:http'.s.'://feg-bruechermuehle.de/Gottesdienst29.jpg|Gottesdienst29.jpg
URL;VALUE=URI:https://feg-bruechermuehle.de/kalender/kalender.php?kal_Aktion=detail&amp;kal_Intervall=%5B%5D&amp;kal_Nummer=158
END:VEVENT
END:VCALENDAR
