BEGIN:VCALENDAR
VERSION:2.0
PRODID:-//Kalender-Script//NONSGML Cal V.3//EN
CALSCALE:GREGORIAN
METHOD:PUBLISH
X-WR-CALNAME:Termin_160
X-WR-TIMEZONE:Europe/Berlin
BEGIN:VTIMEZONE
TZID:Europe/Berlin
X-LIC-LOCATION:Europe/Berlin
BEGIN:DAYLIGHT
TZOFFSETFROM:+0100
TZOFFSETTO:+0200
DTSTART:19700329T020000
RRULE:FREQ=YEARLY;INTERVAL=1;BYDAY=-1SU;BYMONTH=3
TZNAME:CEST
END:DAYLIGHT
BEGIN:STANDARD
TZOFFSETFROM:+0200
TZOFFSETTO:+0100
DTSTART:19701025T030000
RRULE:FREQ=YEARLY;INTERVAL=1;BYDAY=-1SU;BYMONTH=10
TZNAME:CET
END:STANDARD
END:VTIMEZONE
BEGIN:VEVENT
UID:termin_160@feg-bruechermuehle.de
CLASS:PUBLIC
DTSTART;TZID=Europe/Berlin:20250720T100000
DTEND;TZID=Europe/Berlin:20250720T100000
DTSTAMP:20260421T083400Z
SUMMARY:Sonntags-Gottesdienst
DESCRIPTION:Sonntagsgottesdienst - 20. Juli 2025, 10:00 Uhr\n\nHerzliche Einladung zum Gottesdienst der Freien evangelischen Gemeinde Brüchermühle\nam Sonntag, den 20. Juli 2025, um 10:00 Uhr!\n\nWir beginnen den Gottesdienst mit einer lebendigen Anbetungszeit, \ngestaltet vom Team Jana. \n\nMit Liedern und Musik wollen wir gemeinsam in die Gegenwart Gottes eintreten \nund unser Herz für Sein Reden öffnen.\n\nDie Predigt hält an diesem Sonntag Anatoli Dratchow.\n\nDas Thema lautet: ,,Woher kennst du mich?"\n\nEr nimmt uns mit in die Begegnung zwischen Jesus und Nathanael \nund legt dabei Johannes 1,45-50 aus - \nein Text, der uns herausfordert, Gottes Blick auf unser Leben neu zu entdecken.\n\nDurch den Gottesdienst führt uns unsere charmante und liebevolle Moderatorin Schwester Marianne, \ndie uns mit Herzlichkeit durch den Vormittag begleitet.\n\nDu bist herzlich eingeladen - komm vorbei, \nsei Teil der Gemeinschaft und erlebe Gottes Reden ganz persönlich!\n\nhttps://feg-bruechermuehle.de/kalender/kalender.php?kal_Aktion=detail&amp;kal_Intervall=%5B%5D&amp;kal_Nummer=160
LOCATION:51580 Reichshof-Brüchermühle , Olperstrasse 14 51580 Reichshof-Brüchermühle , Olperstrasse 14
GEO:50.929838675726586;7.6474419236183175
ATTACH:http'.s.'://feg-bruechermuehle.de/Gottesdienst30.jpg|Gottesdienst30.jpg
URL;VALUE=URI:https://feg-bruechermuehle.de/kalender/kalender.php?kal_Aktion=detail&amp;kal_Intervall=%5B%5D&amp;kal_Nummer=160
END:VEVENT
END:VCALENDAR
