BEGIN:VCALENDAR
VERSION:2.0
PRODID:-//Kalender-Script//NONSGML Cal V.3//EN
CALSCALE:GREGORIAN
METHOD:PUBLISH
X-WR-CALNAME:Termin_163
X-WR-TIMEZONE:Europe/Berlin
BEGIN:VTIMEZONE
TZID:Europe/Berlin
X-LIC-LOCATION:Europe/Berlin
BEGIN:DAYLIGHT
TZOFFSETFROM:+0100
TZOFFSETTO:+0200
DTSTART:19700329T020000
RRULE:FREQ=YEARLY;INTERVAL=1;BYDAY=-1SU;BYMONTH=3
TZNAME:CEST
END:DAYLIGHT
BEGIN:STANDARD
TZOFFSETFROM:+0200
TZOFFSETTO:+0100
DTSTART:19701025T030000
RRULE:FREQ=YEARLY;INTERVAL=1;BYDAY=-1SU;BYMONTH=10
TZNAME:CET
END:STANDARD
END:VTIMEZONE
BEGIN:VEVENT
UID:termin_163@feg-bruechermuehle.de
CLASS:PUBLIC
DTSTART;TZID=Europe/Berlin:20250727T100000
DTEND;TZID=Europe/Berlin:20250727T100000
DTSTAMP:20260423T115600Z
SUMMARY:Sonntags-Gottesdienst
DESCRIPTION:Sonntagsgottesdienst - 27. Juli 2025, 10:00 Uhr\n\nHerzliche Einladung zum Gottesdienst der Freien evangelischen Gemeinde Brüchermühle \nam Sonntag, den 27. Juli 2025, um 10:00 Uhr!\n\nWie gewohnt beginnen wir mit einer Anbetungszeit, \ndie dieses Mal vom Team Lena musikalisch gestaltet wird. \nGemeinsam wollen wir im Lobpreis Gott begegnen \nund unsere Herzen für Seine Gegenwart öffnen.\n\nDie Predigt hält David Kariuki.\n\nSein Thema lautet: ,,Von Dämonen befreit" -\neine tiefgehende Botschaft über Jesu Macht zur Befreiung und Wiederherstellung.\n\nEr bezieht sich dabei auf den beeindruckenden Bericht aus Lukas 8,26-39, \nder zeigt, wie Jesus Menschen aus Dunkelheit ins Licht führt.\n\nDurch den Gottesdienst begleitet uns unser junger Moderator Derek Kariuki, \nder mit frischer Energie und Klarheit durch das Programm führt.\n\nDu bist herzlich eingeladen - \nkomm vorbei, erlebe Gottes Wirken und feiere mit uns Gemeinschaft im Glauben!\n\nhttps://feg-bruechermuehle.de/kalender/kalender.php?kal_Aktion=detail&amp;kal_Intervall=%5B%5D&amp;kal_Nummer=163
LOCATION:51580 Reichshof-Brüchermühle , Olperstrasse 14 51580 Reichshof-Brüchermühle , Olperstrasse 14
GEO:50.92984205676664;7.647428512573243
ATTACH:http'.s.'://feg-bruechermuehle.de/Gottesdienst31.jpg|Gottesdienst31.jpg
URL;VALUE=URI:https://feg-bruechermuehle.de/kalender/kalender.php?kal_Aktion=detail&amp;kal_Intervall=%5B%5D&amp;kal_Nummer=163
END:VEVENT
END:VCALENDAR
