BEGIN:VCALENDAR
VERSION:2.0
PRODID:-//Kalender-Script//NONSGML Cal V.3//EN
CALSCALE:GREGORIAN
METHOD:PUBLISH
X-WR-CALNAME:Termin_166
X-WR-TIMEZONE:Europe/Berlin
BEGIN:VTIMEZONE
TZID:Europe/Berlin
X-LIC-LOCATION:Europe/Berlin
BEGIN:DAYLIGHT
TZOFFSETFROM:+0100
TZOFFSETTO:+0200
DTSTART:19700329T020000
RRULE:FREQ=YEARLY;INTERVAL=1;BYDAY=-1SU;BYMONTH=3
TZNAME:CEST
END:DAYLIGHT
BEGIN:STANDARD
TZOFFSETFROM:+0200
TZOFFSETTO:+0100
DTSTART:19701025T030000
RRULE:FREQ=YEARLY;INTERVAL=1;BYDAY=-1SU;BYMONTH=10
TZNAME:CET
END:STANDARD
END:VTIMEZONE
BEGIN:VEVENT
UID:termin_166@feg-bruechermuehle.de
CLASS:PUBLIC
DTSTART;TZID=Europe/Berlin:20250803T100000
DTEND;TZID=Europe/Berlin:20250803T100000
DTSTAMP:20260423T161800Z
SUMMARY:Familien-Gottesdienst
DESCRIPTION:Familiengottesdienst mit Abendmahl - 3. August 2025, 10:00 Uhr\n\nHerzliche Einladung zum Familiengottesdienst der Freien evangelischen Gemeinde Brüchermühle \nam Sonntag, den 3. August 2025, um 10:00 Uhr!\n\nDieser Gottesdienst ist besonders familienfreundlich gestaltet -\neine schöne Gelegenheit, \ngemeinsam mit der ganzen Familie Zeit mit Gott und miteinander zu verbringen. \nAlle Generationen sind herzlich willkommen!\n\nWir beginnen mit einer Zeit der Anbetung,\nmusikalisch begleitet vom Team Geibel, \ndas uns mit Leidenschaft und Tiefe in die Gegenwart Gottes führt.\n\nDie Predigt hält Wladimir Angelo zum Thema:\n\n,,Der römische Hauptmann lobt Gott"\n\nAnhand des eindrücklichen Berichts aus Lukas 23,44-49 zeigt er, \nwie selbst inmitten des Leidens am Kreuz die Wahrheit Gottes offenbar wird -\nund ein römischer Hauptmann zum Bekenntnis kommt.\n\nEin besonderer Moment an diesem Sonntag ist die Feier des Abendmahls, \nzu der alle eingeladen sind, \ndie im Glauben mit Jesus Christus verbunden sind. \nGemeinsam wollen wir uns an das Opfer Jesu erinnern und unsere Beziehung zu Ihm vertiefen.\n\nDurch den Gottesdienst begleitet uns unser altbewährter Moderator Thomas Müller, \nder mit Erfahrung und Herzlichkeit durch den Vormittag führt.\n\nSei herzlich eingeladen - wir freuen uns auf dich, \ndeine Familie und einen gesegneten Gottesdienst \nvoller Gemeinschaft, Anbetung und geistlicher Erneuerung!\n\nhttps://feg-bruechermuehle.de/kalender/kalender.php?kal_Aktion=detail&amp;kal_Intervall=%5B%5D&amp;kal_Nummer=166
LOCATION:51580 Reichshof-Brüchermühle , Olperstrasse 14 51580 Reichshof-Brüchermühle , Olperstrasse 14
GEO:50.92984881884601;7.647436559200288
ATTACH:http'.s.'://feg-bruechermuehle.de/Gottesdienst32.jpg|Gottesdienst32.jpg
URL;VALUE=URI:https://feg-bruechermuehle.de/kalender/kalender.php?kal_Aktion=detail&amp;kal_Intervall=%5B%5D&amp;kal_Nummer=166
END:VEVENT
END:VCALENDAR
