BEGIN:VCALENDAR
VERSION:2.0
PRODID:-//Kalender-Script//NONSGML Cal V.3//EN
CALSCALE:GREGORIAN
METHOD:PUBLISH
X-WR-CALNAME:Termin_167
X-WR-TIMEZONE:Europe/Berlin
BEGIN:VTIMEZONE
TZID:Europe/Berlin
X-LIC-LOCATION:Europe/Berlin
BEGIN:DAYLIGHT
TZOFFSETFROM:+0100
TZOFFSETTO:+0200
DTSTART:19700329T020000
RRULE:FREQ=YEARLY;INTERVAL=1;BYDAY=-1SU;BYMONTH=3
TZNAME:CEST
END:DAYLIGHT
BEGIN:STANDARD
TZOFFSETFROM:+0200
TZOFFSETTO:+0100
DTSTART:19701025T030000
RRULE:FREQ=YEARLY;INTERVAL=1;BYDAY=-1SU;BYMONTH=10
TZNAME:CET
END:STANDARD
END:VTIMEZONE
BEGIN:VEVENT
UID:termin_167@feg-bruechermuehle.de
CLASS:PUBLIC
DTSTART;TZID=Europe/Berlin:20250810T100000
DTEND;TZID=Europe/Berlin:20250810T100000
DTSTAMP:20260423T210900Z
SUMMARY:Sonntags-Gottesdienst
DESCRIPTION:Sonntagsgottesdienst - 10. August 2025, 10:00 Uhr\n\nHerzliche Einladung zum Gottesdienst der Freien evangelischen Gemeinde Brüchermühle\nam Sonntag, den 10. August 2025, um 10:00 Uhr!\n\nWie gewohnt beginnt unser Gottesdienst mit einer musikalischen Zeit der Anbetung.\n\nLassen Sie sich inspirieren durch die fantastische Anbetungsmusik unseres Anbetungsteams, \ndas uns mit Hingabe und Tiefe in die Gegenwart Gottes führt.\n\nDie Predigt hält an diesem Sonntag unser Gastprediger Tete Amavi.\n\nDas Thema lautet: ,,Da gingen ihnen die Augen auf"\n\nEr nimmt uns mit auf den Weg nach Emmaus - \nein bewegender Bericht aus Lukas 24,13-34, \nin dem zwei Jünger Jesus begegnen und ihn plötzlich mit neuen Augen erkennen.\n\nDurch den Gottesdienst begleitet uns unser charmanter Moderator Thomas Müller.\nder mit Wärme und Klarheit durch das Programm führt.\n\nDu bist herzlich eingeladen - komm vorbei, \nerlebe lebendige Gemeinschaft, berührende Anbetung und Gottes Wort, das Augen öffnet!\n\nhttps://feg-bruechermuehle.de/kalender/kalender.php?kal_Aktion=detail&amp;kal_Intervall=%5B%5D&amp;kal_Nummer=167
LOCATION:51580 Reichshof-Brüchermühle , Olperstrasse 14 51580 Reichshof-Brüchermühle , Olperstrasse 14
GEO:50.9298352946863;7.647420465946198
ATTACH:http'.s.'://feg-bruechermuehle.de/Gottesdienst33.jpg|Gottesdienst33.jpg
URL;VALUE=URI:https://feg-bruechermuehle.de/kalender/kalender.php?kal_Aktion=detail&amp;kal_Intervall=%5B%5D&amp;kal_Nummer=167
END:VEVENT
END:VCALENDAR
