BEGIN:VCALENDAR
VERSION:2.0
PRODID:-//Kalender-Script//NONSGML Cal V.3//EN
CALSCALE:GREGORIAN
METHOD:PUBLISH
X-WR-CALNAME:Termin_168
X-WR-TIMEZONE:Europe/Berlin
BEGIN:VTIMEZONE
TZID:Europe/Berlin
X-LIC-LOCATION:Europe/Berlin
BEGIN:DAYLIGHT
TZOFFSETFROM:+0100
TZOFFSETTO:+0200
DTSTART:19700329T020000
RRULE:FREQ=YEARLY;INTERVAL=1;BYDAY=-1SU;BYMONTH=3
TZNAME:CEST
END:DAYLIGHT
BEGIN:STANDARD
TZOFFSETFROM:+0200
TZOFFSETTO:+0100
DTSTART:19701025T030000
RRULE:FREQ=YEARLY;INTERVAL=1;BYDAY=-1SU;BYMONTH=10
TZNAME:CET
END:STANDARD
END:VTIMEZONE
BEGIN:VEVENT
UID:termin_168@feg-bruechermuehle.de
CLASS:PUBLIC
DTSTART;TZID=Europe/Berlin:20250817T100000
DTEND;TZID=Europe/Berlin:20250817T100000
DTSTAMP:20260424T020300Z
SUMMARY:Sonntags-Gottesdienst
DESCRIPTION:Sonntagsgottesdienst - 17. August 2025, 10:00 Uhr\n\nHerzliche Einladung zum Gottesdienst der Freien evangelischen Gemeinde Brüchermühle\nam Sonntag, den 17. August 2025, um 10:00 Uhr!\n\nWie gewohnt beginnt unser Gottesdienst mit einer musikalischen Zeit der Anbetung.\n\nUnser Anbetungsteam sorgt für eine feierliche und geistlich bewegende Atmosphäre,\nin der wir gemeinsam Gott loben und unser Herz für Sein Reden öffnen dürfen.\n\nDie Predigt hält an diesem Sonntag Andreas Leis zum Thema:\n\n,,Wer bist du, Herr? - Ich bin Jesus."\n\nEr nimmt uns mit in die dramatische Begegnung von Saulus mit dem auferstandenen Christus \nauf dem Weg nach Damaskus.\nDabei legt er die Verse aus der Apostelgeschichte 9,1-19 aus - \neine eindrucksvolle Geschichte von Umkehr, Berufung und göttlicher Führung.\n\nDurch den Gottesdienst führt uns unsere herzliche Schwester Marianne, \ndie mit Liebe und Klarheit den Ablauf gestaltet und Raum für persönliche Begegnung mit Gott schafft.\n\nDu bist herzlich eingeladen!\nKomm vorbei und erlebe einen Gottesdienst voller Musik, \nHoffnung und geistlicher Impulse für dein Leben.\n\n\nhttps://feg-bruechermuehle.de/kalender/kalender.php?kal_Aktion=detail&amp;kal_Intervall=%5B%5D&amp;kal_Nummer=168
LOCATION:51580 Reichshof-Brüchermühle , Olperstrasse 14 51580 Reichshof-Brüchermühle , Olperstrasse 14
GEO:50.9298352946863;7.647416442632676
ATTACH:http'.s.'://feg-bruechermuehle.de/Gottesdienst34.jpg|Gottesdienst34.jpg
URL;VALUE=URI:https://feg-bruechermuehle.de/kalender/kalender.php?kal_Aktion=detail&amp;kal_Intervall=%5B%5D&amp;kal_Nummer=168
END:VEVENT
END:VCALENDAR
