BEGIN:VCALENDAR
VERSION:2.0
PRODID:-//Kalender-Script//NONSGML Cal V.3//EN
CALSCALE:GREGORIAN
METHOD:PUBLISH
X-WR-CALNAME:Termin_178
X-WR-TIMEZONE:Europe/Berlin
BEGIN:VTIMEZONE
TZID:Europe/Berlin
X-LIC-LOCATION:Europe/Berlin
BEGIN:DAYLIGHT
TZOFFSETFROM:+0100
TZOFFSETTO:+0200
DTSTART:19700329T020000
RRULE:FREQ=YEARLY;INTERVAL=1;BYDAY=-1SU;BYMONTH=3
TZNAME:CEST
END:DAYLIGHT
BEGIN:STANDARD
TZOFFSETFROM:+0200
TZOFFSETTO:+0100
DTSTART:19701025T030000
RRULE:FREQ=YEARLY;INTERVAL=1;BYDAY=-1SU;BYMONTH=10
TZNAME:CET
END:STANDARD
END:VTIMEZONE
BEGIN:VEVENT
UID:termin_178@feg-bruechermuehle.de
CLASS:PUBLIC
DTSTART;TZID=Europe/Berlin:20250824T100000
DTEND;TZID=Europe/Berlin:20250824T100000
DTSTAMP:20260424T061000Z
SUMMARY:Sonntags-Gottesdienst
DESCRIPTION:Sonntagsgottesdienst - 24. August 2025, 10:00 Uhr\n\nHerzliche Einladung zum Gottesdienst der Freien evangelischen Gemeinde Brüchermühle\nam Sonntag, den 24. August 2025, um 10:00 Uhr!\n\nWie üblich beginnen wir mit einer musikalischen Anbetungszeit.\nAn diesem Sonntag gestaltet ein gemischtes Anbetungsteam den Lobpreis - \nbestehend aus Mitgliedern verschiedener Teams, \ndie ihre Stimmen und Instrumente vereinen, um uns gemeinsam in die Gegenwart Gottes zu führen.\n\nDie Predigt hält Anatoli Dratchow.\n\nSein Thema lautet: ,,Jesus und die Kinder".\n\nDabei geht er näher auf die Worte aus Markus 10,13-18 ein \nund zeigt, wie wichtig Kinder im Herzen Jesu sind - \nund was wir als Gemeinde von ihnen lernen dürfen.\n\nEin besonderer Höhepunkt dieses Gottesdienstes wird die Segnung der Schüler sein. \nGemeinsam wollen wir für Schutz, Weisheit und Gottes Segen für das kommende Schuljahr beten.\n\nDurch den Gottesdienst führt uns unser Moderator Emanuel Apiagbor, \nder mit Freude und Herzlichkeit durch das Programm begleitet.\n\nSei dabei und erlebe einen besonderen Gottesdienst für Groß und Klein\n- voller Musik, Hoffnung und Segen!\n\n\n\nhttps://feg-bruechermuehle.de/kalender/kalender.php?kal_Aktion=detail&amp;kal_Intervall=%5B%5D&amp;kal_Nummer=178
LOCATION:51580 Reichshof-Brüchermühle , Olperstrasse 14 51580 Reichshof-Brüchermühle , Olperstrasse 14
GEO:50.92984543780644;7.647433876991273
ATTACH:http'.s.'://feg-bruechermuehle.de/Gottesdienst35.jpg|Gottesdienst35.jpg
URL;VALUE=URI:https://feg-bruechermuehle.de/kalender/kalender.php?kal_Aktion=detail&amp;kal_Intervall=%5B%5D&amp;kal_Nummer=178
END:VEVENT
END:VCALENDAR
