BEGIN:VCALENDAR
VERSION:2.0
PRODID:-//Kalender-Script//NONSGML Cal V.3//EN
CALSCALE:GREGORIAN
METHOD:PUBLISH
X-WR-CALNAME:Termin_184
X-WR-TIMEZONE:Europe/Berlin
BEGIN:VTIMEZONE
TZID:Europe/Berlin
X-LIC-LOCATION:Europe/Berlin
BEGIN:DAYLIGHT
TZOFFSETFROM:+0100
TZOFFSETTO:+0200
DTSTART:19700329T020000
RRULE:FREQ=YEARLY;INTERVAL=1;BYDAY=-1SU;BYMONTH=3
TZNAME:CEST
END:DAYLIGHT
BEGIN:STANDARD
TZOFFSETFROM:+0200
TZOFFSETTO:+0100
DTSTART:19701025T030000
RRULE:FREQ=YEARLY;INTERVAL=1;BYDAY=-1SU;BYMONTH=10
TZNAME:CET
END:STANDARD
END:VTIMEZONE
BEGIN:VEVENT
UID:termin_184@feg-bruechermuehle.de
CLASS:PUBLIC
DTSTART;TZID=Europe/Berlin:20250824T190000
DTEND;TZID=Europe/Berlin:20250824T190000
DTSTAMP:20260424T073800Z
SUMMARY:Lobpreisabend unter freiem Himmel
DESCRIPTION:Lobpreisabend mit Valerie Lill\nSamstag, 24. August 2025 \nWir laden herzlich zu einem besonderen Lobpreisabend ein!\n\nAuf der Außenfläche direkt neben unserem Gemeindehaus der FEG-Brüchermühle - \nbeim Sportplatz unter dem großen Sonnensegel - \nerwartet Sie ein Abend voller Musik, Anbetung und Gemeinschaft.\n\nGestaltet wird der Abend von verschiedenen Musikern, \ngeprägt von christlichen Liedern und moderner Worship-Musik.\n\nUnter anderem befindet sich unter den Sängerinnen die bekannte christliche Songwriterin Valerie Lill\n\nhttps://www.valerielill.de/\n\nStarten Sie mit uns musikalisch in den Spätsommer \nund lassen Sie die Sommerferien in einer besonderen Atmosphäre ausklingen.\n\nHerzliche Einladung - wir freuen uns auf Sie!\n\nhttps://feg-bruechermuehle.de/kalender/kalender.php?kal_Aktion=detail&amp;kal_Intervall=%5B%5D&amp;kal_Nummer=184
LOCATION:51580 Reichshof-Brüchermühle , Olperstrasse 14 51580 Reichshof-Brüchermühle , Olperstrasse 14
GEO:50.93011592019458;7.648823261260987
ATTACH:http'.s.'://feg-bruechermuehle.de/Lobpreis-Abend_1.jpg|Lobpreis-Abend_1.jpg
URL;VALUE=URI:https://feg-bruechermuehle.de/kalender/kalender.php?kal_Aktion=detail&amp;kal_Intervall=%5B%5D&amp;kal_Nummer=184
END:VEVENT
END:VCALENDAR
