BEGIN:VCALENDAR
VERSION:2.0
PRODID:-//Kalender-Script//NONSGML Cal V.3//EN
CALSCALE:GREGORIAN
METHOD:PUBLISH
X-WR-CALNAME:Termin_291
X-WR-TIMEZONE:Europe/Berlin
BEGIN:VTIMEZONE
TZID:Europe/Berlin
X-LIC-LOCATION:Europe/Berlin
BEGIN:DAYLIGHT
TZOFFSETFROM:+0100
TZOFFSETTO:+0200
DTSTART:19700329T020000
RRULE:FREQ=YEARLY;INTERVAL=1;BYDAY=-1SU;BYMONTH=3
TZNAME:CEST
END:DAYLIGHT
BEGIN:STANDARD
TZOFFSETFROM:+0200
TZOFFSETTO:+0100
DTSTART:19701025T030000
RRULE:FREQ=YEARLY;INTERVAL=1;BYDAY=-1SU;BYMONTH=10
TZNAME:CET
END:STANDARD
END:VTIMEZONE
BEGIN:VEVENT
UID:termin_291@feg-bruechermuehle.de
CLASS:PUBLIC
DTSTART;TZID=Europe/Berlin:20260502T003000
DTEND;TZID=Europe/Berlin:20260502T003000
DTSTAMP:20260423T101500Z
SUMMARY:Kirchengebäude - Heute in privater Nutzung
DESCRIPTION:Kirchengebäude - Heute in privater Nutzung\n\nAn diesem Tag ist unser gesamtes Kirchengebäude \nfür eine private Veranstaltung reserviert.\n\nWir bitten freundlich um Verständnis, dass die Räume daher nicht für andere Nutzungen geöffnet sind.\n\nVielen Dank für Ihr Verständnis \nund Ihnen allen einen schönen Tag in unserer Gemeinde\n\nhttps://feg-bruechermuehle.de/kalender/kalender.php?kal_Aktion=detail&amp;kal_Intervall=%5B%5D&amp;kal_Nummer=291
LOCATION:51580 Reichshof-Brüchermühle , Olperstrasse 14 51580 Reichshof-Brüchermühle , Olperstrasse 14
GEO:50.92982853260497;7.647417783737183
ATTACH:http'.s.'://feg-bruechermuehle.de/Privatnutzung_Kirchengebaeude.jpg|Privatnutzung_Kirchengebaeude.jpg
URL;VALUE=URI:https://feg-bruechermuehle.de/kalender/kalender.php?kal_Aktion=detail&amp;kal_Intervall=%5B%5D&amp;kal_Nummer=291
END:VEVENT
END:VCALENDAR
