BEGIN:VCALENDAR
VERSION:2.0
PRODID:-//Kalender-Script//NONSGML Cal V.3//EN
CALSCALE:GREGORIAN
METHOD:PUBLISH
X-WR-CALNAME:Termin_297
X-WR-TIMEZONE:Europe/Berlin
BEGIN:VTIMEZONE
TZID:Europe/Berlin
X-LIC-LOCATION:Europe/Berlin
BEGIN:DAYLIGHT
TZOFFSETFROM:+0100
TZOFFSETTO:+0200
DTSTART:19700329T020000
RRULE:FREQ=YEARLY;INTERVAL=1;BYDAY=-1SU;BYMONTH=3
TZNAME:CEST
END:DAYLIGHT
BEGIN:STANDARD
TZOFFSETFROM:+0200
TZOFFSETTO:+0100
DTSTART:19701025T030000
RRULE:FREQ=YEARLY;INTERVAL=1;BYDAY=-1SU;BYMONTH=10
TZNAME:CET
END:STANDARD
END:VTIMEZONE
BEGIN:VEVENT
UID:termin_297@feg-bruechermuehle.de
CLASS:PUBLIC
DTSTART;TZID=Europe/Berlin:20260222T100000
DTEND;TZID=Europe/Berlin:20260222T100000
DTSTAMP:20260421T155200Z
SUMMARY:Sonntags-Gottesdienst
DESCRIPTION:Sonntagsgottesdienst am 22. Februar 2026 um 10:00 Uhr\n\nHerzliche Einladung zu unserem Sonntagsgottesdienst am Sonntag, den 22. Februar 2026, um 10:00 Uhr\nin der Freien Evangelischen Gemeinde Brüchermühle.\n\nWir beginnen den Gottesdienst mit einer wunderschönen Zeit der Anbetung. \n\nDie musikalische Gestaltung übernimmt an diesem Sonntag das Team Emanuel\nund schafft Raum, Gott gemeinsam zu begegnen.\n\nDie Predigt hält Wladimir Angelo. \n\nDas Thema seiner Predigt lautet:\n,,Gemeinsam gesandt - Teambildung".\n\nAnhand von Lukas 10, Verse 1-20 zeigt er auf, \nwie Jesus Menschen gemeinsam aussendet,\nsie im Team stärkt\nund zur Mitarbeit in seinem Reich beruft.\n\nDurch den Gottesdienst führt uns unsere liebe Schwester Marianne in der Moderation.\n\nDu bist herzlich eingeladen, \nGemeinschaft zu erleben, dich neu senden zu lassen \nund gemeinsam im Glauben zu wachsen.\n\nhttps://feg-bruechermuehle.de/kalender/kalender.php?kal_Aktion=detail&amp;kal_Intervall=%5B%5D&amp;kal_Nummer=297
LOCATION:51580 Reichshof-Brüchermühle , Olperstrasse 14 51580 Reichshof-Brüchermühle , Olperstrasse 14
GEO:50.92983698520648;7.647423148155213
ATTACH:http'.s.'://feg-bruechermuehle.de/Gottesdienst58.jpg|Gottesdienst58.jpg
URL;VALUE=URI:https://feg-bruechermuehle.de/kalender/kalender.php?kal_Aktion=detail&amp;kal_Intervall=%5B%5D&amp;kal_Nummer=297
END:VEVENT
END:VCALENDAR
