BEGIN:VCALENDAR
VERSION:2.0
PRODID:-//Kalender-Script//NONSGML Cal V.3//EN
CALSCALE:GREGORIAN
METHOD:PUBLISH
X-WR-CALNAME:Termin_310
X-WR-TIMEZONE:Europe/Berlin
BEGIN:VTIMEZONE
TZID:Europe/Berlin
X-LIC-LOCATION:Europe/Berlin
BEGIN:DAYLIGHT
TZOFFSETFROM:+0100
TZOFFSETTO:+0200
DTSTART:19700329T020000
RRULE:FREQ=YEARLY;INTERVAL=1;BYDAY=-1SU;BYMONTH=3
TZNAME:CEST
END:DAYLIGHT
BEGIN:STANDARD
TZOFFSETFROM:+0200
TZOFFSETTO:+0100
DTSTART:19701025T030000
RRULE:FREQ=YEARLY;INTERVAL=1;BYDAY=-1SU;BYMONTH=10
TZNAME:CET
END:STANDARD
END:VTIMEZONE
BEGIN:VEVENT
UID:termin_310@feg-bruechermuehle.de
CLASS:PUBLIC
DTSTART;TZID=Europe/Berlin:20260329T100000
DTEND;TZID=Europe/Berlin:20260329T100000
DTSTAMP:20260424T134100Z
SUMMARY:Sonntags-Gottesdienst
DESCRIPTION:Sonntagsgottesdienst am 29. März 2026 um 10:00 Uhr\n\nHerzliche Einladung zu unserem Sonntagsgottesdienst am Sonntag, den 29. März 2026 um 10:00 Uhr.\n\nDer Gottesdienst beginnt mit einer wunderschönen Zeit der Anbetung. \nMusikalisch wird diese von unserem talentierten Team Geibel gestaltet\nund hilft uns dabei, gemeinsam zur Ruhe zu kommen und unseren Blick auf Gott zu richten.\n\nDie Predigt hält an diesem Sonntag Anatoly Dratschow.\n\nDas Thema seiner Predigt lautet: ,,Wachstum durch geistliche Gaben - Gabentest". \n\nDabei wird es darum gehen, \nwie Gott jedem von uns unterschiedliche Gaben schenkt \nund wie wir diese entdecken und zum Aufbau der Gemeinde einsetzen können.\n\nDurch den Gottesdienst führt uns an diesem Sonntag\nunser junges Moderationsteam, bestehend aus Derek Kariuki und Jana W.\n\nWir laden dich herzlich ein, \ngemeinsam mit uns Gottes Gegenwart zu erleben\nund neue Impulse für dein Glaubensleben mitzunehmen.\n\nhttps://feg-bruechermuehle.de/kalender/kalender.php?kal_Aktion=detail&amp;kal_Intervall=%5B%5D&amp;kal_Nummer=310
LOCATION:51580 Reichshof-Brüchermühle , Olperstrasse 14 51580 Reichshof-Brüchermühle , Olperstrasse 14
GEO:50.92984881884601;7.647420465946198
ATTACH:http'.s.'://feg-bruechermuehle.de/Gottesdienst62.jpg|Gottesdienst62.jpg
URL;VALUE=URI:https://feg-bruechermuehle.de/kalender/kalender.php?kal_Aktion=detail&amp;kal_Intervall=%5B%5D&amp;kal_Nummer=310
END:VEVENT
END:VCALENDAR
