BEGIN:VCALENDAR
VERSION:2.0
PRODID:-//Kalender-Script//NONSGML Cal V.3//EN
CALSCALE:GREGORIAN
METHOD:PUBLISH
X-WR-CALNAME:Termin_331
X-WR-TIMEZONE:Europe/Berlin
BEGIN:VTIMEZONE
TZID:Europe/Berlin
X-LIC-LOCATION:Europe/Berlin
BEGIN:DAYLIGHT
TZOFFSETFROM:+0100
TZOFFSETTO:+0200
DTSTART:19700329T020000
RRULE:FREQ=YEARLY;INTERVAL=1;BYDAY=-1SU;BYMONTH=3
TZNAME:CEST
END:DAYLIGHT
BEGIN:STANDARD
TZOFFSETFROM:+0200
TZOFFSETTO:+0100
DTSTART:19701025T030000
RRULE:FREQ=YEARLY;INTERVAL=1;BYDAY=-1SU;BYMONTH=10
TZNAME:CET
END:STANDARD
END:VTIMEZONE
BEGIN:VEVENT
UID:termin_331@feg-bruechermuehle.de
CLASS:PUBLIC
DTSTART;TZID=Europe/Berlin:20260329T121500
DTEND;TZID=Europe/Berlin:20260329T121500
DTSTAMP:20260424T121600Z
SUMMARY:Mitgliederversammlung
DESCRIPTION:Einladung zur Mitgliederversammlung der FEG Brüchermühle\n\nLiebe Mitglieder,\n\nwir laden euch herzlich zur Mitgliederversammlung \nder Freien evangelischen Gemeinde Brüchermühle ein.\n\nSie findet statt am\n\nSonntag, den 29. März 2026\nim Anschluss an den Gottesdienst\nim Gottesdienstsaal unserer Kirche\n\nWir möchten gemeinsam auf das vergangene Jahr zurückblicken, \nwichtige Themen für die Zukunft besprechen \nund Entscheidungen treffen, die unsere Gemeindearbeit betreffen. \n\nEure Anwesenheit und Mitwirkung sind uns dabei sehr wichtig.\n\nWir freuen uns auf eine gute und gesegnete Zeit miteinander!\n\nHerzliche Grüße\nDie Gemeindeleitung der FEG Brüchermühle\n\nhttps://feg-bruechermuehle.de/kalender/kalender.php?kal_Aktion=detail&amp;kal_Intervall=%5B%5D&amp;kal_Nummer=331
LOCATION:51580 Reichshof-Brüchermühle , Olperstrasse 14 51580 Reichshof-Brüchermühle , Olperstrasse 14
GEO:50.92982853260497;7.647439241409302
ATTACH:http'.s.'://feg-bruechermuehle.de/Mitgliederversammlung.jpg|Mitgliederversammlung.jpg
URL;VALUE=URI:https://feg-bruechermuehle.de/kalender/kalender.php?kal_Aktion=detail&amp;kal_Intervall=%5B%5D&amp;kal_Nummer=331
END:VEVENT
END:VCALENDAR
