BEGIN:VCALENDAR
VERSION:2.0
PRODID:-//Kalender-Script//NONSGML Cal V.3//EN
CALSCALE:GREGORIAN
METHOD:PUBLISH
X-WR-CALNAME:Termin_332
X-WR-TIMEZONE:Europe/Berlin
BEGIN:VTIMEZONE
TZID:Europe/Berlin
X-LIC-LOCATION:Europe/Berlin
BEGIN:DAYLIGHT
TZOFFSETFROM:+0100
TZOFFSETTO:+0200
DTSTART:19700329T020000
RRULE:FREQ=YEARLY;INTERVAL=1;BYDAY=-1SU;BYMONTH=3
TZNAME:CEST
END:DAYLIGHT
BEGIN:STANDARD
TZOFFSETFROM:+0200
TZOFFSETTO:+0100
DTSTART:19701025T030000
RRULE:FREQ=YEARLY;INTERVAL=1;BYDAY=-1SU;BYMONTH=10
TZNAME:CET
END:STANDARD
END:VTIMEZONE
BEGIN:VEVENT
UID:termin_332@feg-bruechermuehle.de
CLASS:PUBLIC
DTSTART;TZID=Europe/Berlin:20260405T100000
DTEND;TZID=Europe/Berlin:20260405T100000
DTSTAMP:20260424T063200Z
SUMMARY:Ostersonntags-Gottesdienst
DESCRIPTION:Ostersonntags- & Familiengottesdienst mit Abendmahl\n\n5. April 2026 um 10:00 Uhr\nFreie Evangelische Gemeinde Brüchermühle\n\nHerzliche Einladung zu unserem besonderen Ostersonntagsgottesdienst \nam Sonntag, den 5. April 2026 um 10:00 Uhr \nin der Freien Evangelischen Gemeinde Brüchermühle!\n\nAn diesem Tag feiern wir die Auferstehung Jesu Christi - \ndie Grundlage unserer Hoffnung und unseres Glaubens. \n\nGleichzeitig ist dieser Gottesdienst auch unser Familiengottesdienst, \nzu dem wir wie immer am ersten Sonntag im Monat besonders alle Generationen einladen.\n\nWir beginnen den Gottesdienst mit einer Zeit der musikalischen Anbetung, \ndie vom Team Emanuel gestaltet wird und uns hilft, \ngemeinsam in die Freude und Bedeutung von Ostern einzutauchen.\n\nEin besonderer Moment wird die Feier des Abendmahls sein, \nbei der wir uns an das Opfer Jesu erinnern und seine Gegenwart in unserer Mitte feiern.\n\nDie Predigt hält Andre Wernig. \n\nDieser Gottesdienst gehört zu unserer Predigtreihe ,,Wachstum im Reich Gottes".\n\nSein Thema lautet:\n,,Wie eine geistliche Gemeinschaft funktioniert - Gemeinde als Körper".\n\nAnhand von 1. Korinther 12,12-26 zeigt er, \nwie wir als Gemeinde miteinander verbunden sind \nund wie jeder Einzelne mit seinen Gaben zum Wachstum beiträgt.\n\nDurch den Gottesdienst führt uns unsere Schwester Marianne, \ndie mit Herzlichkeit und Freude durch den Vormittag begleitet.\n\nFeiere mit uns Ostern - ein Fest der Hoffnung, des Lebens und der Gemeinschaft! \n\nhttps://feg-bruechermuehle.de/kalender/kalender.php?kal_Aktion=detail&amp;kal_Intervall=%5B%5D&amp;kal_Nummer=332
LOCATION:51580 Reichshof-Brüchermühle , Olperstrasse 14 51580 Reichshof-Brüchermühle , Olperstrasse 14
GEO:50.929838675726586;7.647420465946198
ATTACH:http'.s.'://feg-bruechermuehle.de/Gottesdienst63.jpg|Gottesdienst63.jpg
URL;VALUE=URI:https://feg-bruechermuehle.de/kalender/kalender.php?kal_Aktion=detail&amp;kal_Intervall=%5B%5D&amp;kal_Nummer=332
END:VEVENT
END:VCALENDAR
