BEGIN:VCALENDAR
VERSION:2.0
PRODID:-//Kalender-Script//NONSGML Cal V.3//EN
CALSCALE:GREGORIAN
METHOD:PUBLISH
X-WR-CALNAME:Termin_333
X-WR-TIMEZONE:Europe/Berlin
BEGIN:VTIMEZONE
TZID:Europe/Berlin
X-LIC-LOCATION:Europe/Berlin
BEGIN:DAYLIGHT
TZOFFSETFROM:+0100
TZOFFSETTO:+0200
DTSTART:19700329T020000
RRULE:FREQ=YEARLY;INTERVAL=1;BYDAY=-1SU;BYMONTH=3
TZNAME:CEST
END:DAYLIGHT
BEGIN:STANDARD
TZOFFSETFROM:+0200
TZOFFSETTO:+0100
DTSTART:19701025T030000
RRULE:FREQ=YEARLY;INTERVAL=1;BYDAY=-1SU;BYMONTH=10
TZNAME:CET
END:STANDARD
END:VTIMEZONE
BEGIN:VEVENT
UID:termin_333@feg-bruechermuehle.de
CLASS:PUBLIC
DTSTART;TZID=Europe/Berlin:20260412T100000
DTEND;TZID=Europe/Berlin:20260412T100000
DTSTAMP:20260423T235200Z
SUMMARY:Sonntags-Gottesdienst
DESCRIPTION:Sonntagsgottesdienst am 12. April 2026 um 10:00 Uhr\n\nFreie Evangelische Gemeinde Brüchermühle\n\nHerzliche Einladung zu unserem Sonntagsgottesdienst am Sonntag,\nden 12. April 2026 um 10:00 Uhr \nin der Freien Evangelischen Gemeinde Brüchermühle.\n\nWie gewohnt beginnen wir den Gottesdienst mit einer wunderschönen musikalischen Anbetungszeit, \ndie an diesem Sonntag vom Team Lena gestaltet wird. \nGemeinsam wollen wir Gott loben und uns auf sein Reden ausrichten.\n\nAuch dieser Gottesdienst gehört zu unserer Predigtreihe ,,Wachstum im Reich Gottes".\n\nDie Predigt hält Andreas Leis. \n\nDas Thema seiner Predigt lautet:\n\n,,Wachstum durch Leiterschaftsbeziehungen".\n\nAnhand biblischer Beispiele wie Titus, Timotheus, Barnabas und Markus zeigt er auf,\nwie Paulus gezielt Leiterschaft gefördert und Menschen im Glauben aufgebaut hat - \nund was wir daraus für unser eigenes Leben und unsere Gemeinde lernen können.\n\nDurch den Gottesdienst führt uns unser routinierter Moderator Thomas Müller, \nder mit Klarheit und Erfahrung durch den Vormittag begleitet.\n\nSei herzlich eingeladen, Gemeinschaft zu erleben und im Glauben weiter zu wachsen!\n\nhttps://feg-bruechermuehle.de/kalender/kalender.php?kal_Aktion=detail&amp;kal_Intervall=%5B%5D&amp;kal_Nummer=333
LOCATION:51580 Reichshof-Brüchermühle , Olperstrasse 14 51580 Reichshof-Brüchermühle , Olperstrasse 14
GEO:50.929847128326266;7.647431194782258
ATTACH:http'.s.'://feg-bruechermuehle.de/Gottesdienst64.jpg|Gottesdienst64.jpg
URL;VALUE=URI:https://feg-bruechermuehle.de/kalender/kalender.php?kal_Aktion=detail&amp;kal_Intervall=%5B%5D&amp;kal_Nummer=333
END:VEVENT
END:VCALENDAR
