BEGIN:VCALENDAR
VERSION:2.0
PRODID:-//Kalender-Script//NONSGML Cal V.3//EN
CALSCALE:GREGORIAN
METHOD:PUBLISH
X-WR-CALNAME:Termin_338
X-WR-TIMEZONE:Europe/Berlin
BEGIN:VTIMEZONE
TZID:Europe/Berlin
X-LIC-LOCATION:Europe/Berlin
BEGIN:DAYLIGHT
TZOFFSETFROM:+0100
TZOFFSETTO:+0200
DTSTART:19700329T020000
RRULE:FREQ=YEARLY;INTERVAL=1;BYDAY=-1SU;BYMONTH=3
TZNAME:CEST
END:DAYLIGHT
BEGIN:STANDARD
TZOFFSETFROM:+0200
TZOFFSETTO:+0100
DTSTART:19701025T030000
RRULE:FREQ=YEARLY;INTERVAL=1;BYDAY=-1SU;BYMONTH=10
TZNAME:CET
END:STANDARD
END:VTIMEZONE
BEGIN:VEVENT
UID:termin_338@feg-bruechermuehle.de
CLASS:PUBLIC
DTSTART;TZID=Europe/Berlin:20260411T100000
DTEND;TZID=Europe/Berlin:20260411T100000
DTSTAMP:20260424T014300Z
SUMMARY:KiGo-Seminar für Kinder
DESCRIPTION:Am Samstag, den 11. Juni 2026, \nladen wir alle Kinder herzlich zu einem besonderen Erlebnis ein: \nunserem KiGo-Seminar von 10:00 bis 15:00 Uhr!\n\nDieses Seminar ist eine kreative und spannende Weiterentwicklung unseres Kindergottesdienstes. \n\nGemeinsam wollen wir entdecken, lernen, lachen und über Gott nachdenken. \n\nDie Kinder erwartet ein abwechslungsreiches Programm\nmit inspirierenden Geschichten, ermutigenden Impulsen \nund kleinen Herausforderungen, die Spaß machen und zum Mitmachen einladen.\n\nGeleitet wird das Seminar von unserem geschätzten Prediger Wladimir Angelo, \nder mit viel Herz und Begeisterung speziell auf die jungen Teilnehmer eingeht.\n\nEingeladen sind alle Kinder - ganz egal, ob sie regelmäßig unseren Kindergottesdienst besuchen\noder zum ersten Mal dabei sind. \n\nDer Eintritt ist selbstverständlich kostenlos.\n\nWir freuen uns auf einen fröhlichen, spannenden und gesegneten Tag mit euch!\n\nhttps://feg-bruechermuehle.de/kalender/kalender.php?kal_Aktion=detail&amp;kal_Intervall=%5B%5D&amp;kal_Nummer=338
LOCATION:51580 Reichshof-Brüchermühle , Olperstrasse 14 51580 Reichshof-Brüchermühle , Olperstrasse 14
GEO:50.92982853260497;7.6474298536777505
ATTACH:http'.s.'://feg-bruechermuehle.de/KiGo-Seminar_fuer_Kinder.jpg|KiGo-Seminar_fuer_Kinder.jpg
URL;VALUE=URI:https://feg-bruechermuehle.de/kalender/kalender.php?kal_Aktion=detail&amp;kal_Intervall=%5B%5D&amp;kal_Nummer=338
END:VEVENT
END:VCALENDAR
