BEGIN:VCALENDAR
VERSION:2.0
PRODID:-//Kalender-Script//NONSGML Cal V.3//EN
CALSCALE:GREGORIAN
METHOD:PUBLISH
X-WR-CALNAME:Termin_73
X-WR-TIMEZONE:Europe/Berlin
BEGIN:VTIMEZONE
TZID:Europe/Berlin
X-LIC-LOCATION:Europe/Berlin
BEGIN:DAYLIGHT
TZOFFSETFROM:+0100
TZOFFSETTO:+0200
DTSTART:19700329T020000
RRULE:FREQ=YEARLY;INTERVAL=1;BYDAY=-1SU;BYMONTH=3
TZNAME:CEST
END:DAYLIGHT
BEGIN:STANDARD
TZOFFSETFROM:+0200
TZOFFSETTO:+0100
DTSTART:19701025T030000
RRULE:FREQ=YEARLY;INTERVAL=1;BYDAY=-1SU;BYMONTH=10
TZNAME:CET
END:STANDARD
END:VTIMEZONE
BEGIN:VEVENT
UID:termin_73@feg-bruechermuehle.de
CLASS:PUBLIC
DTSTART;TZID=Europe/Berlin:20250316T103000
DTEND;TZID=Europe/Berlin:20250316T103000
DTSTAMP:20260419T191000Z
SUMMARY:Kindergottesdienst
DESCRIPTION:Kindergottesdienst - Ein Gottesdienst speziell für Kinder\n\nJeden Sonntag (außer in den Schulferien)\nladen wir parallel zu unserem Gottesdienst \ndie Kinder herzlich zu unserem Kindergottesdienst ein!\n\nWann?\nSonntags um 10:30 Uhr bis 12:00 Uhr\n\nFür wen?\nKinder im Alter von 3 bis 12 Jahren\n\nWas erwartet die Kinder?\nIm Kindergottesdienst singen, spielen und basteln wir gemeinsam. \nDie Kinder hören spannende biblische Geschichten und erleben, \nwie wertvoll sie in Gottes Augen sind. \nDer Zusammenhalt und das Miteinander stehen dabei im Mittelpunkt.\n\nJesus liebt die Kinder - genauso, wie sie sind!\n\nWir freuen uns auf alle Kinder, \ndie mit uns gemeinsam einen fröhlichen und bereichernden Sonntag erleben möchten! \n\n\nhttps://feg-bruechermuehle.de/kalender/kalender.php?kal_Aktion=detail&amp;kal_Intervall=%5B%5D&amp;kal_Nummer=73
LOCATION:51580 Reichshof-Brüchermühle , Olperstrasse 14 51580 Reichshof-Brüchermühle , Olperstrasse 14
GEO:50.92997560765209;7.64772355556488
ATTACH:http'.s.'://feg-bruechermuehle.de/Kindergottesdienst_2.jpg|Kindergottesdienst_2.jpg
URL;VALUE=URI:https://feg-bruechermuehle.de/kalender/kalender.php?kal_Aktion=detail&amp;kal_Intervall=%5B%5D&amp;kal_Nummer=73
END:VEVENT
END:VCALENDAR
