BEGIN:VCALENDAR
VERSION:2.0
PRODID:-//Kalender-Script//NONSGML Cal V.3//EN
CALSCALE:GREGORIAN
METHOD:PUBLISH
X-WR-CALNAME:Termin_85
X-WR-TIMEZONE:Europe/Berlin
BEGIN:VTIMEZONE
TZID:Europe/Berlin
X-LIC-LOCATION:Europe/Berlin
BEGIN:DAYLIGHT
TZOFFSETFROM:+0100
TZOFFSETTO:+0200
DTSTART:19700329T020000
RRULE:FREQ=YEARLY;INTERVAL=1;BYDAY=-1SU;BYMONTH=3
TZNAME:CEST
END:DAYLIGHT
BEGIN:STANDARD
TZOFFSETFROM:+0200
TZOFFSETTO:+0100
DTSTART:19701025T030000
RRULE:FREQ=YEARLY;INTERVAL=1;BYDAY=-1SU;BYMONTH=10
TZNAME:CET
END:STANDARD
END:VTIMEZONE
BEGIN:VEVENT
UID:termin_85@feg-bruechermuehle.de
CLASS:PUBLIC
DTSTART;TZID=Europe/Berlin:20250316T100000
DTEND;TZID=Europe/Berlin:20250316T100000
DTSTAMP:20260419T191000Z
SUMMARY:Sonntags-Gottesdienst
DESCRIPTION:Einladung zum Gottesdienst am 16. März 2025\nHerzliche Einladung zu unserem Sonntagsgottesdienst\nam 16. März 2025 um 10:00 Uhr in der Freien Evangelischen Gemeinde Brüchermühle!\n\nWas erwartet dich?\n\nLobpreis & Anbetung\nUnser Anbetungsteam ( Team-Geibel ) wird uns mit kraftvollen Liedern in eine Zeit der Anbetung führen. Gemeinsam wollen wir Gott die Ehre geben und unser Herz auf sein Reden ausrichten.\n\nPredigt: Gemeinschaft als Katalysator für die Transformation des Herzens\nUnser Gastprediger Tete Amavi wird eine tiefgehende Botschaft\nzu unserem Jahresthema »Erweckung - Jetzt« weitergeben. \n\nEr wird uns aufzeigen, wie Gemeinschaft unser Herz formen und verändern kann \nund sich dabei auf Hebräer 10, 24-25 beziehen.\n\nModeration\nUnser erfahrener Moderator Thomas Müller wird uns kompetent durch den Gottesdienst begleiten und für einen reibungslosen Ablauf sorgen.\n\nWir freuen uns auf dich und auf eine gesegnete Zeit in Gottes Gegenwart!\n\nOrt: Freie Evangelische Gemeinde Brüchermühle\nZeit: Sonntag, 16. März 2025, 10:00 Uhr\n\n\n\n\n\n\n\n\n\n\nhttps://feg-bruechermuehle.de/kalender/kalender.php?kal_Aktion=detail&amp;kal_Intervall=%5B%5D&amp;kal_Nummer=85
LOCATION:51580 Reichshof-Brüchermühle , Olperstrasse 14 51580 Reichshof-Brüchermühle , Olperstrasse 14
GEO:50.92983360416604;7.6474298536777505
ATTACH:http'.s.'://feg-bruechermuehle.de/Gottesdienst10.jpg|Gottesdienst10.jpg
URL;VALUE=URI:https://feg-bruechermuehle.de/kalender/kalender.php?kal_Aktion=detail&amp;kal_Intervall=%5B%5D&amp;kal_Nummer=85
END:VEVENT
END:VCALENDAR
