BEGIN:VCALENDAR
VERSION:2.0
PRODID:-//Kalender-Script//NONSGML Cal V.3//EN
CALSCALE:GREGORIAN
METHOD:PUBLISH
X-WR-CALNAME:Termin_86
X-WR-TIMEZONE:Europe/Berlin
BEGIN:VTIMEZONE
TZID:Europe/Berlin
X-LIC-LOCATION:Europe/Berlin
BEGIN:DAYLIGHT
TZOFFSETFROM:+0100
TZOFFSETTO:+0200
DTSTART:19700329T020000
RRULE:FREQ=YEARLY;INTERVAL=1;BYDAY=-1SU;BYMONTH=3
TZNAME:CEST
END:DAYLIGHT
BEGIN:STANDARD
TZOFFSETFROM:+0200
TZOFFSETTO:+0100
DTSTART:19701025T030000
RRULE:FREQ=YEARLY;INTERVAL=1;BYDAY=-1SU;BYMONTH=10
TZNAME:CET
END:STANDARD
END:VTIMEZONE
BEGIN:VEVENT
UID:termin_86@feg-bruechermuehle.de
CLASS:PUBLIC
DTSTART;TZID=Europe/Berlin:20250323T100000
DTEND;TZID=Europe/Berlin:20250323T100000
DTSTAMP:20260419T191000Z
SUMMARY:Sonntags-Gottesdienst
DESCRIPTION:Einladung zum Gottesdienst am 23. März 2025\nHerzliche Einladung zu unserem Sonntagsgottesdienst am 23. März 2025 um 10:00 Uhr\nin der Freien Evangelischen Gemeinde Brüchermühle!\n\nWas erwartet dich?\n\nMusikalische Anbetung :\nUnser Anbetungsteam ( Team-Neema ) \nwird uns mit wunderschöner Worship-Musik in die Gegenwart Gottes führen.\n\nPredigt:\nVergebung und Versöhnung \n\nUnser Pastor Andre Wernik setzt die Reihe \nzu unserem Jahresthema »Erweckung - Jetzt: Transformation des Herzens« fort. \n\nIn seiner Predigt legt er den Schwerpunkt auf Vergebung und Versöhnung\nund wird dabei unter anderem die Bibelstellen Epheser 4,31-32 und Lukas 17,3-4 betrachten.\nDiese Passagen ermutigen uns, allen Groll und Zorn abzulegen\nund einander zu vergeben, so wie Gott uns durch Christus vergeben hat. \n\n\nModeration:\nUnsere erfahrene Moderatorin Ida Klaus wird uns durch den Gottesdienst führen\nund die verschiedenen Programmpunkte miteinander verbinden.\n\nWir freuen uns darauf, gemeinsam mit dir eine gesegnete Zeit der Anbetung, \nLehre und Gemeinschaft zu erleben.\nSei dabei und lass dich von Gottes Wort berühren!\n\nOrt: Freie Evangelische Gemeinde Brüchermühle\nZeit: Sonntag, 23. März 2025, 10:00 Uhr\n\nhttps://feg-bruechermuehle.de/kalender/kalender.php?kal_Aktion=detail&amp;kal_Intervall=%5B%5D&amp;kal_Nummer=86
LOCATION:51580 Reichshof-Brüchermühle , Olperstrasse 14 51580 Reichshof-Brüchermühle , Olperstrasse 14
GEO:50.929838675726586;7.647420465946198
ATTACH:http'.s.'://feg-bruechermuehle.de/Gottesdienst11.jpg|Gottesdienst11.jpg
URL;VALUE=URI:https://feg-bruechermuehle.de/kalender/kalender.php?kal_Aktion=detail&amp;kal_Intervall=%5B%5D&amp;kal_Nummer=86
END:VEVENT
END:VCALENDAR
