BEGIN:VCALENDAR
VERSION:2.0
PRODID:-//Kalender-Script//NONSGML Cal V.3//EN
CALSCALE:GREGORIAN
METHOD:PUBLISH
X-WR-CALNAME:Termin_87
X-WR-TIMEZONE:Europe/Berlin
BEGIN:VTIMEZONE
TZID:Europe/Berlin
X-LIC-LOCATION:Europe/Berlin
BEGIN:DAYLIGHT
TZOFFSETFROM:+0100
TZOFFSETTO:+0200
DTSTART:19700329T020000
RRULE:FREQ=YEARLY;INTERVAL=1;BYDAY=-1SU;BYMONTH=3
TZNAME:CEST
END:DAYLIGHT
BEGIN:STANDARD
TZOFFSETFROM:+0200
TZOFFSETTO:+0100
DTSTART:19701025T030000
RRULE:FREQ=YEARLY;INTERVAL=1;BYDAY=-1SU;BYMONTH=10
TZNAME:CET
END:STANDARD
END:VTIMEZONE
BEGIN:VEVENT
UID:termin_87@feg-bruechermuehle.de
CLASS:PUBLIC
DTSTART;TZID=Europe/Berlin:20250330T100000
DTEND;TZID=Europe/Berlin:20250330T100000
DTSTAMP:20260419T191000Z
SUMMARY:Sonntags-Gottesdienst
DESCRIPTION:Einladung zum Sonntagsgottesdienst am 30. März 2025\nHerzlich laden wir dich zu unserem Gottesdienst am\nSonntag, den 30. März 2025, um 10:00 Uhr in der Freien Evangelischen Gemeinde Brüchermühle ein!\n\nWas erwartet dich?\n\nAnbetungszeit:\n\nDer Gottesdienst beginnt wie immer mit einer inspirierenden musikalischen Anbetungszeit.\nUnser Anbetungs-Team, das an diesem Sonntag überwiegend aus \nAfrikanischen Mitgliedern unserer Gemeinde besteht, \nwird mit ihren Liedern für eine stimmungsvolle Einstimmung sorgen.\n\nPredigt:\n\nUnser Gastprediger Wladimir Angelo wird uns in seiner Predigt zum Thema\n »Ein Herz, voller Liebe und Gnade - Liebe zu Gott und den Mitmenschen« ermutigen.\nDabei bezieht er sich unter anderem auf die Bibelstellen\naus Matthäus 22,37-39 und veranschaulicht, wie die Liebe unser Handeln prägt.\n\nModeration:\n\nDen Gottesdienst leitet uns unser Moderator Anatoli Suckau, \nder uns durch diesen besonderen Tag führen wird.\n\nSei dabei und erlebe, wie Gottes Liebe in Gemeinschaft und im persönlichen Glauben lebendig wird!\n\nOrt: Freie Evangelische Gemeinde Brüchermühle\nZeit: Sonntag, 30. März 2025, 10:00 Uhr\n\n\n\n\n\n\n\n\n\nhttps://feg-bruechermuehle.de/kalender/kalender.php?kal_Aktion=detail&amp;kal_Intervall=%5B%5D&amp;kal_Nummer=87
LOCATION:51580 Reichshof-Brüchermühle , Olperstrasse 14 51580 Reichshof-Brüchermühle , Olperstrasse 14
GEO:50.92983698520648;7.647419124841691
ATTACH:http'.s.'://feg-bruechermuehle.de/Gottesdienst13.jpg|Gottesdienst13.jpg
URL;VALUE=URI:https://feg-bruechermuehle.de/kalender/kalender.php?kal_Aktion=detail&amp;kal_Intervall=%5B%5D&amp;kal_Nummer=87
END:VEVENT
END:VCALENDAR
