BEGIN:VCALENDAR
VERSION:2.0
PRODID:-//Kalender-Script//NONSGML Cal V.3//EN
CALSCALE:GREGORIAN
METHOD:PUBLISH
X-WR-CALNAME:Termin_90
X-WR-TIMEZONE:Europe/Berlin
BEGIN:VTIMEZONE
TZID:Europe/Berlin
X-LIC-LOCATION:Europe/Berlin
BEGIN:DAYLIGHT
TZOFFSETFROM:+0100
TZOFFSETTO:+0200
DTSTART:19700329T020000
RRULE:FREQ=YEARLY;INTERVAL=1;BYDAY=-1SU;BYMONTH=3
TZNAME:CEST
END:DAYLIGHT
BEGIN:STANDARD
TZOFFSETFROM:+0200
TZOFFSETTO:+0100
DTSTART:19701025T030000
RRULE:FREQ=YEARLY;INTERVAL=1;BYDAY=-1SU;BYMONTH=10
TZNAME:CET
END:STANDARD
END:VTIMEZONE
BEGIN:VEVENT
UID:termin_90@feg-bruechermuehle.de
CLASS:PUBLIC
DTSTART;TZID=Europe/Berlin:20250328T180000
DTEND;TZID=Europe/Berlin:20250328T180000
DTSTAMP:20260419T191100Z
SUMMARY:Gebetskreis
DESCRIPTION:Herzliche Einladung zum Gebetskreis\n\nTauchen Sie ein in die Stille, Kraft und Gemeinschaft des Gebets! Jeden Freitag um 18:00 Uhr treffen wir uns in unserer Kirche, um gemeinsam zu beten, einander zuzuhören und unseren Glauben zu stärken.\n\nUnser Gebetskreis ist für alle offen - unabhängig davon, ob Sie Mitglied unserer Gemeinde sind oder nicht. Ihre Anliegen finden bei uns Raum, und wir begegnen Ihnen stets mit Einfühlungsvermögen, Diskretion und Wertschätzung.\n\nAilona Bürger, eine geschätzte Wegbegleiterin mit über 20 Jahren Erfahrung in der Gemeindearbeit, leitet unseren Kreis zusammen mit einem engagierten Team. Gemeinsam schaffen wir einen Ort der Geborgenheit, an dem Sie die transformative Kraft des Gebets erleben können.\n\nWir freuen uns, wenn Sie vorbeikommen und Teil dieser besonderen Gemeinschaft werden. Bringen Sie Ihre Anliegen mit oder kommen Sie einfach, um dabei zu sein. Jeder ist willkommen!\n\nhttps://feg-bruechermuehle.de/kalender/kalender.php?kal_Aktion=detail&amp;kal_Intervall=%5B%5D&amp;kal_Nummer=90
LOCATION:51580 Reichshof-Brüchermühle , Olperstrasse 14 51580 Reichshof-Brüchermühle , Olperstrasse 14
GEO:50.929950518847;7.647536303848
ATTACH:http'.s.'://feg-bruechermuehle.de/Gebetskreis9.jpg|Gebetskreis9.jpg
URL;VALUE=URI:https://feg-bruechermuehle.de/kalender/kalender.php?kal_Aktion=detail&amp;kal_Intervall=%5B%5D&amp;kal_Nummer=90
END:VEVENT
END:VCALENDAR
